Workbook

Sheet 年間集計
B1: ____年 家計簿 年間集計(実績)
B2: 各月シートの「実績」を自動で集計します(このシートへの入力は不要です)。
B3: 項目 | C3: 1月 | D3: 2月 | E3: 3月 | F3: 4月 | G3: 5月 | H3: 6月 | I3: 7月 | J3: 8月 | K3: 9月 | L3: 10月 | M3: 11月 | N3: 12月 | O3: 年間合計 | P3: 月平均(÷12)
B4: 収入
B5: 給与(手取り) | C5: ='1月'!D18 -> 320620 | D5: ='2月'!D18 -> 322820 | E5: ='3月'!D18 -> 330820 | F5: ='4月'!D18 -> 323090 | G5: ='5月'!D18 -> 320820 | H5: ='6月'!D18 -> 332520 | I5: ='7月'!D18 -> 329020 | J5: ='8月'!D18 -> 328800 | K5: ='9月'!D18 -> 322780 | L5: ='10月'!D18 -> 320020 | M5: ='11月'!D18 -> 321730 | N5: ='12月'!D18 -> 326800 | O5: =SUM(C5:N5) -> 3899840 | P5: =AVERAGE(C5:N5) -> 324986.67
B6: 賞与 | C6: ='1月'!D19 -> 0 | D6: ='2月'!D19 -> 0 | E6: ='3月'!D19 -> 0 | F6: ='4月'!D19 -> 0 | G6: ='5月'!D19 -> 0 | H6: ='6月'!D19 -> 450640 | I6: ='7月'!D19 -> 0 | J6: ='8月'!D19 -> 0 | K6: ='9月'!D19 -> 0 | L6: ='10月'!D19 -> 0 | M6: ='11月'!D19 -> 0 | N6: ='12月'!D19 -> 533960 | O6: =SUM(C6:N6) -> 984600 | P6: =AVERAGE(C6:N6) -> 82050
B7: 副業収入 | C7: ='1月'!D20 -> 15670 | D7: ='2月'!D20 -> 22280 | E7: ='3月'!D20 -> 19120 | F7: ='4月'!D20 -> 6660 | G7: ='5月'!D20 -> 7980 | H7: ='6月'!D20 -> 11190 | I7: ='7月'!D20 -> 15210 | J7: ='8月'!D20 -> 24190 | K7: ='9月'!D20 -> 6990 | L7: ='10月'!D20 -> 9560 | M7: ='11月'!D20 -> 18170 | N7: ='12月'!D20 -> 16420 | O7: =SUM(C7:N7) -> 173440 | P7: =AVERAGE(C7:N7) -> 14453.333
B8: その他収入 | C8: ='1月'!D21 -> 0 | D8: ='2月'!D21 -> 0 | E8: ='3月'!D21 -> 0 | F8: ='4月'!D21 -> 3500 | G8: ='5月'!D21 -> 1200 | H8: ='6月'!D21 -> 3500 | I8: ='7月'!D21 -> 0 | J8: ='8月'!D21 -> 0 | K8: ='9月'!D21 -> 1200 | L8: ='10月'!D21 -> 1200 | M8: ='11月'!D21 -> 3500 | N8: ='12月'!D21 -> 1200 | O8: =SUM(C8:N8) -> 15300 | P8: =AVERAGE(C8:N8) -> 1275
B9: 小計 | C9: ='1月'!D22 -> 336290 | D9: ='2月'!D22 -> 345100 | E9: ='3月'!D22 -> 349940 | F9: ='4月'!D22 -> 333250 | G9: ='5月'!D22 -> 330000 | H9: ='6月'!D22 -> 797850 | I9: ='7月'!D22 -> 344230 | J9: ='8月'!D22 -> 352990 | K9: ='9月'!D22 -> 330970 | L9: ='10月'!D22 -> 330780 | M9: ='11月'!D22 -> 343400 | N9: ='12月'!D22 -> 878380 | O9: =SUM(C9:N9) -> 5073180 | P9: =AVERAGE(C9:N9) -> 422765
B11: 支出(固定費)
B12: 住居費(家賃・ローン) | C12: ='1月'!D26 -> 85000 | D12: ='2月'!D26 -> 85000 | E12: ='3月'!D26 -> 85000 | F12: ='4月'!D26 -> 85000 | G12: ='5月'!D26 -> 85000 | H12: ='6月'!D26 -> 85000 | I12: ='7月'!D26 -> 85000 | J12: ='8月'!D26 -> 85000 | K12: ='9月'!D26 -> 85000 | L12: ='10月'!D26 -> 85000 | M12: ='11月'!D26 -> 85000 | N12: ='12月'!D26 -> 85000 | O12: =SUM(C12:N12) -> 1020000 | P12: =AVERAGE(C12:N12) -> 85000
B13: 電気代 | C13: ='1月'!D27 -> 14200 | D13: ='2月'!D27 -> 13100 | E13: ='3月'!D27 -> 10800 | F13: ='4月'!D27 -> 8200 | G13: ='5月'!D27 -> 7400 | H13: ='6月'!D27 -> 9100 | I13: ='7月'!D27 -> 12800 | J13: ='8月'!D27 -> 15600 | K13: ='9月'!D27 -> 11900 | L13: ='10月'!D27 -> 8300 | M13: ='11月'!D27 -> 9200 | N13: ='12月'!D27 -> 12900 | O13: =SUM(C13:N13) -> 133500 | P13: =AVERAGE(C13:N13) -> 11125
B14: ガス代 | C14: ='1月'!D28 -> 7800 | D14: ='2月'!D28 -> 7900 | E14: ='3月'!D28 -> 6900 | F14: ='4月'!D28 -> 5600 | G14: ='5月'!D28 -> 4500 | H14: ='6月'!D28 -> 3900 | I14: ='7月'!D28 -> 3400 | J14: ='8月'!D28 -> 3300 | K14: ='9月'!D28 -> 3600 | L14: ='10月'!D28 -> 4200 | M14: ='11月'!D28 -> 5600 | N14: ='12月'!D28 -> 7100 | O14: =SUM(C14:N14) -> 63800 | P14: =AVERAGE(C14:N14) -> 5316.6667
B15: 水道代 | C15: ='1月'!D29 -> 3620 | D15: ='2月'!D29 -> 3440 | E15: ='3月'!D29 -> 3720 | F15: ='4月'!D29 -> 3550 | G15: ='5月'!D29 -> 3110 | H15: ='6月'!D29 -> 3120 | I15: ='7月'!D29 -> 3890 | J15: ='8月'!D29 -> 3220 | K15: ='9月'!D29 -> 3130 | L15: ='10月'!D29 -> 3520 | M15: ='11月'!D29 -> 3360 | N15: ='12月'!D29 -> 3300 | O15: =SUM(C15:N15) -> 40980 | P15: =AVERAGE(C15:N15) -> 3415
B16: 通信費(スマホ・ネット) | C16: ='1月'!D30 -> 10210 | D16: ='2月'!D30 -> 9710 | E16: ='3月'!D30 -> 10290 | F16: ='4月'!D30 -> 10190 | G16: ='5月'!D30 -> 9530 | H16: ='6月'!D30 -> 10130 | I16: ='7月'!D30 -> 10140 | J16: ='8月'!D30 -> 10030 | K16: ='9月'!D30 -> 10170 | L16: ='10月'!D30 -> 9780 | M16: ='11月'!D30 -> 9660 | N16: ='12月'!D30 -> 10230 | O16: =SUM(C16:N16) -> 120070 | P16: =AVERAGE(C16:N16) -> 10005.833
B17: 保険料 | C17: ='1月'!D31 -> 18500 | D17: ='2月'!D31 -> 18500 | E17: ='3月'!D31 -> 18500 | F17: ='4月'!D31 -> 18500 | G17: ='5月'!D31 -> 18500 | H17: ='6月'!D31 -> 18500 | I17: ='7月'!D31 -> 18500 | J17: ='8月'!D31 -> 18500 | K17: ='9月'!D31 -> 18500 | L17: ='10月'!D31 -> 18500 | M17: ='11月'!D31 -> 18500 | N17: ='12月'!D31 -> 18500 | O17: =SUM(C17:N17) -> 222000 | P17: =AVERAGE(C17:N17) -> 18500
B18: サブスク | C18: ='1月'!D32 -> 3980 | D18: ='2月'!D32 -> 3980 | E18: ='3月'!D32 -> 3980 | F18: ='4月'!D32 -> 3980 | G18: ='5月'!D32 -> 3980 | H18: ='6月'!D32 -> 3980 | I18: ='7月'!D32 -> 3980 | J18: ='8月'!D32 -> 3980 | K18: ='9月'!D32 -> 3980 | L18: ='10月'!D32 -> 3980 | M18: ='11月'!D32 -> 3980 | N18: ='12月'!D32 -> 3980 | O18: =SUM(C18:N18) -> 47760 | P18: =AVERAGE(C18:N18) -> 3980
B19: 教育費 | C19: ='1月'!D33 -> 25000 | D19: ='2月'!D33 -> 25000 | E19: ='3月'!D33 -> 25000 | F19: ='4月'!D33 -> 25000 | G19: ='5月'!D33 -> 25000 | H19: ='6月'!D33 -> 25000 | I19: ='7月'!D33 -> 25000 | J19: ='8月'!D33 -> 25000 | K19: ='9月'!D33 -> 25000 | L19: ='10月'!D33 -> 25000 | M19: ='11月'!D33 -> 25000 | N19: ='12月'!D33 -> 25000 | O19: =SUM(C19:N19) -> 300000 | P19: =AVERAGE(C19:N19) -> 25000
B20: 車両費(ローン・駐車場) | C20: ='1月'!D34 -> 15000 | D20: ='2月'!D34 -> 15000 | E20: ='3月'!D34 -> 15000 | F20: ='4月'!D34 -> 15000 | G20: ='5月'!D34 -> 15000 | H20: ='6月'!D34 -> 15000 | I20: ='7月'!D34 -> 15000 | J20: ='8月'!D34 -> 15000 | K20: ='9月'!D34 -> 15000 | L20: ='10月'!D34 -> 15000 | M20: ='11月'!D34 -> 15000 | N20: ='12月'!D34 -> 15000 | O20: =SUM(C20:N20) -> 180000 | P20: =AVERAGE(C20:N20) -> 15000
B21: 小計 | C21: ='1月'!D35 -> 183310 | D21: ='2月'!D35 -> 181630 | E21: ='3月'!D35 -> 179190 | F21: ='4月'!D35 -> 175020 | G21: ='5月'!D35 -> 172020 | H21: ='6月'!D35 -> 173730 | I21: ='7月'!D35 -> 177710 | J21: ='8月'!D35 -> 179630 | K21: ='9月'!D35 -> 176280 | L21: ='10月'!D35 -> 173280 | M21: ='11月'!D35 -> 175300 | N21: ='12月'!D35 -> 181010 | O21: =SUM(C21:N21) -> 2128110 | P21: =AVERAGE(C21:N21) -> 177342.5
B23: 支出(変動費)
B24: 食費 | C24: ='1月'!D39 -> 59880 | D24: ='2月'!D39 -> 61070 | E24: ='3月'!D39 -> 62460 | F24: ='4月'!D39 -> 57610 | G24: ='5月'!D39 -> 59910 | H24: ='6月'!D39 -> 55860 | I24: ='7月'!D39 -> 57710 | J24: ='8月'!D39 -> 55260 | K24: ='9月'!D39 -> 53140 | L24: ='10月'!D39 -> 55140 | M24: ='11月'!D39 -> 56140 | N24: ='12月'!D39 -> 69030 | O24: =SUM(C24:N24) -> 703210 | P24: =AVERAGE(C24:N24) -> 58600.833
B25: 日用品 | C25: ='1月'!D40 -> 8820 | D25: ='2月'!D40 -> 6950 | E25: ='3月'!D40 -> 5850 | F25: ='4月'!D40 -> 7560 | G25: ='5月'!D40 -> 8140 | H25: ='6月'!D40 -> 8160 | I25: ='7月'!D40 -> 9390 | J25: ='8月'!D40 -> 7030 | K25: ='9月'!D40 -> 8270 | L25: ='10月'!D40 -> 5940 | M25: ='11月'!D40 -> 6440 | N25: ='12月'!D40 -> 9380 | O25: =SUM(C25:N25) -> 91930 | P25: =AVERAGE(C25:N25) -> 7660.8333
B26: 交通費 | C26: ='1月'!D41 -> 5400 | D26: ='2月'!D41 -> 5240 | E26: ='3月'!D41 -> 5630 | F26: ='4月'!D41 -> 4850 | G26: ='5月'!D41 -> 5740 | H26: ='6月'!D41 -> 5960 | I26: ='7月'!D41 -> 4930 | J26: ='8月'!D41 -> 5950 | K26: ='9月'!D41 -> 4840 | L26: ='10月'!D41 -> 4710 | M26: ='11月'!D41 -> 4770 | N26: ='12月'!D41 -> 6780 | O26: =SUM(C26:N26) -> 64800 | P26: =AVERAGE(C26:N26) -> 5400
B27: 医療費 | C27: ='1月'!D42 -> 1390 | D27: ='2月'!D42 -> 880 | E27: ='3月'!D42 -> 2100 | F27: ='4月'!D42 -> 460 | G27: ='5月'!D42 -> 2010 | H27: ='6月'!D42 -> 610 | I27: ='7月'!D42 -> 2300 | J27: ='8月'!D42 -> 2450 | K27: ='9月'!D42 -> 10280 | L27: ='10月'!D42 -> 3990 | M27: ='11月'!D42 -> 960 | N27: ='12月'!D42 -> 1820 | O27: =SUM(C27:N27) -> 29250 | P27: =AVERAGE(C27:N27) -> 2437.5
B28: 衣服・美容 | C28: ='1月'!D43 -> 5430 | D28: ='2月'!D43 -> 7630 | E28: ='3月'!D43 -> 6190 | F28: ='4月'!D43 -> 23710 | G28: ='5月'!D43 -> 10570 | H28: ='6月'!D43 -> 6890 | I28: ='7月'!D43 -> 7290 | J28: ='8月'!D43 -> 6040 | K28: ='9月'!D43 -> 6170 | L28: ='10月'!D43 -> 6660 | M28: ='11月'!D43 -> 6670 | N28: ='12月'!D43 -> 5140 | O28: =SUM(C28:N28) -> 98390 | P28: =AVERAGE(C28:N28) -> 8199.1667
B29: 交際費 | C29: ='1月'!D44 -> 5600 | D29: ='2月'!D44 -> 4480 | E29: ='3月'!D44 -> 11980 | F29: ='4月'!D44 -> 9820 | G29: ='5月'!D44 -> 7160 | H29: ='6月'!D44 -> 8950 | I29: ='7月'!D44 -> 8880 | J29: ='8月'!D44 -> 5630 | K29: ='9月'!D44 -> 6590 | L29: ='10月'!D44 -> 6760 | M29: ='11月'!D44 -> 3910 | N29: ='12月'!D44 -> 21120 | O29: =SUM(C29:N29) -> 100880 | P29: =AVERAGE(C29:N29) -> 8406.6667
B30: 趣味・娯楽 | C30: ='1月'!D45 -> 11490 | D30: ='2月'!D45 -> 13120 | E30: ='3月'!D45 -> 9730 | F30: ='4月'!D45 -> 11980 | G30: ='5月'!D45 -> 24000 | H30: ='6月'!D45 -> 8080 | I30: ='7月'!D45 -> 13800 | J30: ='8月'!D45 -> 68000 | K30: ='9月'!D45 -> 11900 | L30: ='10月'!D45 -> 12380 | M30: ='11月'!D45 -> 10270 | N30: ='12月'!D45 -> 7700 | O30: =SUM(C30:N30) -> 202450 | P30: =AVERAGE(C30:N30) -> 16870.833
B31: 特別費(冠婚葬祭など) | C31: ='1月'!D46 -> 25000 | D31: ='2月'!D46 -> 5000 | E31: ='3月'!D46 -> 33000 | F31: ='4月'!D46 -> 0 | G31: ='5月'!D46 -> 8000 | H31: ='6月'!D46 -> 0 | I31: ='7月'!D46 -> 3000 | J31: ='8月'!D46 -> 0 | K31: ='9月'!D46 -> 8000 | L31: ='10月'!D46 -> 3000 | M31: ='11月'!D46 -> 3000 | N31: ='12月'!D46 -> 15000 | O31: =SUM(C31:N31) -> 103000 | P31: =AVERAGE(C31:N31) -> 8583.3333
B32: その他支出 | C32: ='1月'!D47 -> 4260 | D32: ='2月'!D47 -> 5790 | E32: ='3月'!D47 -> 5400 | F32: ='4月'!D47 -> 4960 | G32: ='5月'!D47 -> 4650 | H32: ='6月'!D47 -> 4280 | I32: ='7月'!D47 -> 4660 | J32: ='8月'!D47 -> 3760 | K32: ='9月'!D47 -> 4130 | L32: ='10月'!D47 -> 5250 | M32: ='11月'!D47 -> 5460 | N32: ='12月'!D47 -> 4030 | O32: =SUM(C32:N32) -> 56630 | P32: =AVERAGE(C32:N32) -> 4719.1667
B33: 小計 | C33: ='1月'!D48 -> 127270 | D33: ='2月'!D48 -> 110160 | E33: ='3月'!D48 -> 142340 | F33: ='4月'!D48 -> 120950 | G33: ='5月'!D48 -> 130180 | H33: ='6月'!D48 -> 98790 | I33: ='7月'!D48 -> 111960 | J33: ='8月'!D48 -> 154120 | K33: ='9月'!D48 -> 113320 | L33: ='10月'!D48 -> 103830 | M33: ='11月'!D48 -> 97620 | N33: ='12月'!D48 -> 140000 | O33: =SUM(C33:N33) -> 1450540 | P33: =AVERAGE(C33:N33) -> 120878.33
B35: 年間サマリー
B36: 収入合計 | C36: ='1月'!D5 -> 336290 | D36: ='2月'!D5 -> 345100 | E36: ='3月'!D5 -> 349940 | F36: ='4月'!D5 -> 333250 | G36: ='5月'!D5 -> 330000 | H36: ='6月'!D5 -> 797850 | I36: ='7月'!D5 -> 344230 | J36: ='8月'!D5 -> 352990 | K36: ='9月'!D5 -> 330970 | L36: ='10月'!D5 -> 330780 | M36: ='11月'!D5 -> 343400 | N36: ='12月'!D5 -> 878380 | O36: =SUM(C36:N36) -> 5073180 | P36: =AVERAGE(C36:N36) -> 422765
B37: 支出合計 | C37: ='1月'!D6 -> 310580 | D37: ='2月'!D6 -> 291790 | E37: ='3月'!D6 -> 321530 | F37: ='4月'!D6 -> 295970 | G37: ='5月'!D6 -> 302200 | H37: ='6月'!D6 -> 272520 | I37: ='7月'!D6 -> 289670 | J37: ='8月'!D6 -> 333750 | K37: ='9月'!D6 -> 289600 | L37: ='10月'!D6 -> 277110 | M37: ='11月'!D6 -> 272920 | N37: ='12月'!D6 -> 321010 | O37: =SUM(C37:N37) -> 3578650 | P37: =AVERAGE(C37:N37) -> 298220.83
B38: 収支(収入−支出) | C38: ='1月'!D7 -> 25710 | D38: ='2月'!D7 -> 53310 | E38: ='3月'!D7 -> 28410 | F38: ='4月'!D7 -> 37280 | G38: ='5月'!D7 -> 27800 | H38: ='6月'!D7 -> 525330 | I38: ='7月'!D7 -> 54560 | J38: ='8月'!D7 -> 19240 | K38: ='9月'!D7 -> 41370 | L38: ='10月'!D7 -> 53670 | M38: ='11月'!D7 -> 70480 | N38: ='12月'!D7 -> 557370 | O38: =SUM(C38:N38) -> 1494530 | P38: =AVERAGE(C38:N38) -> 124544.17
B39: 累計収支 | C39: =SUM($C38:C38) -> 25710 | D39: =SUM($C38:D38) -> 79020 | E39: =SUM($C38:E38) -> 107430 | F39: =SUM($C38:F38) -> 144710 | G39: =SUM($C38:G38) -> 172510 | H39: =SUM($C38:H38) -> 697840 | I39: =SUM($C38:I38) -> 752400 | J39: =SUM($C38:J38) -> 771640 | ... N39: =SUM($C38:N38) -> 1494530

Sheet 1月
B1: 1月 JAN | C1: ____年 家計簿(収入・支出)
B2: 入力方法:薄い黄色のセル(予算・実績・メモ)に金額を入力してください。合計・差額は自動計算されます。 例)食費 予算 60,000/実績 58,320 → 差額 1,680
B4: 月間サマリー | C4: 予算 | D4: 実績 | E4: 差額
B5: 収入合計 | C5: =C22 -> 340000 | D5: =D22 -> 336290 | E5: =D5-C5 -> -3710
B6: 支出合計 | C6: =C35+C48 -> 301280 | D6: =D35+D48 -> 310580 | E6: =C6-D6 -> -9300
B7: 収支(収入−支出) | C7: =C5-C6 -> 38720 | D7: =D5-D6 -> 25710 | E7: =D7-C7 -> -13010
B8: 貯蓄率(実績) | D8: =IF(D5=0,"-",D7/D5) -> 0.076451872
B10: 今月のふり返り:お年玉で特別費が増えたが、全体では黒字。
B16: 収入
B17: 項目 | C17: 予算 | D17: 実績 | E17: 差額(実績−予算) | F17: メモ
B18: 給与(手取り) | C18: 325000 | D18: 320620 | E18: =D18-C18 -> -4380
B19: 賞与 | E19: =D19-C19 -> 0
B20: 副業収入 | C20: 15000 | D20: 15670 | E20: =D20-C20 -> 670
B21: その他収入 | D21: 0 | E21: =D21-C21 -> 0
B22: 小計 | C22: =SUM(C18:C21) -> 340000 | D22: =SUM(D18:D21) -> 336290 | E22: =SUM(E18:E21) -> -3710
B24: 支出(固定費)
B25: 項目 | C25: 予算 | D25: 実績 | E25: 差額 | F25: メモ
B26: 住居費(家賃・ローン) | C26: 85000 | D26: 85000 | E26: =C26-D26 -> 0
B27: 電気代 | C27: 11000 | D27: 14200 | E27: =C27-D27 -> -3200
B28: ガス代 | C28: 5500 | D28: 7800 | E28: =C28-D28 -> -2300
B29: 水道代 | C29: 3500 | D29: 3620 | E29: =C29-D29 -> -120
B30: 通信費(スマホ・ネット) | C30: 9800 | D30: 10210 | E30: =C30-D30 -> -410
B31: 保険料 | C31: 18500 | D31: 18500 | E31: =C31-D31 -> 0
B32: サブスク | C32: 3980 | D32: 3980 | E32: =C32-D32 -> 0
B33: 教育費 | C33: 25000 | D33: 25000 | E33: =C33-D33 -> 0
B34: 車両費(ローン・駐車場) | C34: 15000 | D34: 15000 | E34: =C34-D34 -> 0
B35: 小計 | C35: =SUM(C26:C34) -> 177280 | D35: =SUM(D26:D34) -> 183310 | E35: =SUM(E26:E34) -> -6030
B37: 支出(変動費)
B38: 項目 | C38: 予算 | D38: 実績 | E38: 差額 | F38: メモ
B39: 食費 | C39: 60000 | D39: 59880 | E39: =C39-D39 -> 120
B40: 日用品 | C40: 8000 | D40: 8820 | E40: =C40-D40 -> -820
B41: 交通費 | C41: 6000 | D41: 5400 | E41: =C41-D41 -> 600
B42: 医療費 | C42: 3000 | D42: 1390 | E42: =C42-D42 -> 1610
B43: 衣服・美容 | C43: 10000 | D43: 5430 | E43: =C43-D43 -> 4570
B44: 交際費 | C44: 10000 | D44: 5600 | E44: =C44-D44 -> 4400
B45: 趣味・娯楽 | C45: 12000 | D45: 11490 | E45: =C45-D45 -> 510
B46: 特別費(冠婚葬祭など) | C46: 10000 | D46: 25000 | E46: =C46-D46 -> -15000 | F46: お年玉
B47: その他支出 | C47: 5000 | D47: 4260 | E47: =C47-D47 -> 740
B48: 小計 | C48: =SUM(C39:C47) -> 124000 | D48: =SUM(D39:D47) -> 127270 | E48: =SUM(E39:E47) -> -3270

Sheet 2月
B1: 2月 FEB | C1: ____年 家計簿(収入・支出)
B2: 入力方法:薄い黄色のセル(予算・実績・メモ)に金額を入力してください。合計・差額は自動計算されます。 例)食費 予算 60,000/実績 58,320 → 差額 1,680
B4: 月間サマリー | C4: 予算 | D4: 実績 | E4: 差額
B5: 収入合計 | C5: =C22 -> 340000 | D5: =D22 -> 345100 | E5: =D5-C5 -> 5100
B6: 支出合計 | C6: =C35+C48 -> 301280 | D6: =D35+D48 -> 291790 | E6: =C6-D6 -> 9490
B7: 収支(収入−支出) | C7: =C5-C6 -> 38720 | D7: =D5-D6 -> 53310 | E7: =D7-C7 -> 14590
B8: 貯蓄率(実績) | D8: =IF(D5=0,"-",D7/D5) -> 0.15447696
B10: 今月のふり返り:
B16: 収入
B17: 項目 | C17: 予算 | D17: 実績 | E17: 差額(実績−予算) | F17: メモ
B18: 給与(手取り) | C18: 325000 | D18: 322820 | E18: =D18-C18 -> -2180
B19: 賞与 | E19: =D19-C19 -> 0
B20: 副業収入 | C20: 15000 | D20: 22280 | E20: =D20-C20 -> 7280
B21: その他収入 | D21: 0 | E21: =D21-C21 -> 0
B22: 小計 | C22: =SUM(C18:C21) -> 340000 | D22: =SUM(D18:D21) -> 345100 | E22: =SUM(E18:E21) -> 5100
B24: 支出(固定費)
B25: 項目 | C25: 予算 | D25: 実績 | E25: 差額 | F25: メモ
B26: 住居費(家賃・ローン) | C26: 85000 | D26: 85000 | E26: =C26-D26 -> 0
B27: 電気代 | C27: 11000 | D27: 13100 | E27: =C27-D27 -> -2100
B28: ガス代 | C28: 5500 | D28: 7900 | E28: =C28-D28 -> -2400
B29: 水道代 | C29: 3500 | D29: 3440 | E29: =C29-D29 -> 60
B30: 通信費(スマホ・ネット) | C30: 9800 | D30: 9710 | E30: =C30-D30 -> 90
B31: 保険料 | C31: 18500 | D31: 18500 | E31: =C31-D31 -> 0
B32: サブスク | C32: 3980 | D32: 3980 | E32: =C32-D32 -> 0
B33: 教育費 | C33: 25000 | D33: 25000 | E33: =C33-D33 -> 0
B34: 車両費(ローン・駐車場) | C34: 15000 | D34: 15000 | E34: =C34-D34 -> 0
B35: 小計 | C35: =SUM(C26:C34) -> 177280 | D35: =SUM(D26:D34) -> 181630 | E35: =SUM(E26:E34) -> -4350
B37: 支出(変動費)
B38: 項目 | C38: 予算 | D38: 実績 | E38: 差額 | F38: メモ
B39: 食費 | C39: 60000 | D39: 61070 | E39: =C39-D39 -> -1070
B40: 日用品 | C40: 8000 | D40: 6950 | E40: =C40-D40 -> 1050
B41: 交通費 | C41: 6000 | D41: 5240 | E41: =C41-D41 -> 760
B42: 医療費 | C42: 3000 | D42: 880 | E42: =C42-D42 -> 2120
B43: 衣服・美容 | C43: 10000 | D43: 7630 | E43: =C43-D43 -> 2370
B44: 交際費 | C44: 10000 | D44: 4480 | E44: =C44-D44 -> 5520
B45: 趣味・娯楽 | C45: 12000 | D45: 13120 | E45: =C45-D45 -> -1120
B46: 特別費(冠婚葬祭など) | C46: 10000 | D46: 5000 | E46: =C46-D46 -> 5000
B47: その他支出 | C47: 5000 | D47: 5790 | E47: =C47-D47 -> -790
B48: 小計 | C48: =SUM(C39:C47) -> 124000 | D48: =SUM(D39:D47) -> 110160 | E48: =SUM(E39:E47) -> 13840

Sheet 3月
B1: 3月 MAR | C1: ____年 家計簿(収入・支出)
B2: 入力方法:薄い黄色のセル(予算・実績・メモ)に金額を入力してください。合計・差額は自動計算されます。 例)食費 予算 60,000/実績 58,320 → 差額 1,680
B4: 月間サマリー | C4: 予算 | D4: 実績 | E4: 差額
B5: 収入合計 | C5: =C22 -> 340000 | D5: =D22 -> 349940 | E5: =D5-C5 -> 9940
B6: 支出合計 | C6: =C35+C48 -> 301280 | D6: =D35+D48 -> 321530 | E6: =C6-D6 -> -20250
B7: 収支(収入−支出) | C7: =C5-C6 -> 38720 | D7: =D5-D6 -> 28410 | E7: =D7-C7 -> -10310
B8: 貯蓄率(実績) | D8: =IF(D5=0,"-",D7/D5) -> 0.081185346
B10: 今月のふり返り:結婚式のご祝儀で特別費が予算超過。
B16: 収入
B17: 項目 | C17: 予算 | D17: 実績 | E17: 差額(実績−予算) | F17: メモ
B18: 給与(手取り) | C18: 325000 | D18: 330820 | E18: =D18-C18 -> 5820
B19: 賞与 | E19: =D19-C19 -> 0
B20: 副業収入 | C20: 15000 | D20: 19120 | E20: =D20-C20 -> 4120
B21: その他収入 | D21: 0 | E21: =D21-C21 -> 0
B22: 小計 | C22: =SUM(C18:C21) -> 340000 | D22: =SUM(D18:D21) -> 349940 | E22: =SUM(E18:E21) -> 9940
B24: 支出(固定費)
B25: 項目 | C25: 予算 | D25: 実績 | E25: 差額 | F25: メモ
B26: 住居費(家賃・ローン) | C26: 85000 | D26: 85000 | E26: =C26-D26 -> 0
B27: 電気代 | C27: 11000 | D27: 10800 | E27: =C27-D27 -> 200
B28: ガス代 | C28: 5500 | D28: 6900 | E28: =C28-D28 -> -1400
B29: 水道代 | C29: 3500 | D29: 3720 | E29: =C29-D29 -> -220
B30: 通信費(スマホ・ネット) | C30: 9800 | D30: 10290 | E30: =C30-D30 -> -490
B31: 保険料 | C31: 18500 | D31: 18500 | E31: =C31-D31 -> 0
B32: サブスク | C32: 3980 | D32: 3980 | E32: =C32-D32 -> 0
B33: 教育費 | C33: 25000 | D33: 25000 | E33: =C33-D33 -> 0
B34: 車両費(ローン・駐車場) | C34: 15000 | D34: 15000 | E34: =C34-D34 -> 0
B35: 小計 | C35: =SUM(C26:C34) -> 177280 | D35: =SUM(D26:D34) -> 179190 | E35: =SUM(E26:E34) -> -1910
B37: 支出(変動費)
B38: 項目 | C38: 予算 | D38: 実績 | E38: 差額 | F38: メモ
B39: 食費 | C39: 60000 | D39: 62460 | E39: =C39-D39 -> -2460
B40: 日用品 | C40: 8000 | D40: 5850 | E40: =C40-D40 -> 2150
B41: 交通費 | C41: 6000 | D41: 5630 | E41: =C41-D41 -> 370
B42: 医療費 | C42: 3000 | D42: 2100 | E42: =C42-D42 -> 900
B43: 衣服・美容 | C43: 10000 | D43: 6190 | E43: =C43-D43 -> 3810
B44: 交際費 | C44: 10000 | D44: 11980 | E44: =C44-D44 -> -1980
B45: 趣味・娯楽 | C45: 12000 | D45: 9730 | E45: =C45-D45 -> 2270
B46: 特別費(冠婚葬祭など) | C46: 10000 | D46: 33000 | E46: =C46-D46 -> -23000 | F46: 友人の結婚式
B47: その他支出 | C47: 5000 | D47: 5400 | E47: =C47-D47 -> -400
B48: 小計 | C48: =SUM(C39:C47) -> 124000 | D48: =SUM(D39:D47) -> 142340 | E48: =SUM(E39:E47) -> -18340

Sheet 4月
B1: 4月 APR | C1: ____年 家計簿(収入・支出)
B2: 入力方法:薄い黄色のセル(予算・実績・メモ)に金額を入力してください。合計・差額は自動計算されます。 例)食費 予算 60,000/実績 58,320 → 差額 1,680
B4: 月間サマリー | C4: 予算 | D4: 実績 | E4: 差額
B5: 収入合計 | C5: =C22 -> 340000 | D5: =D22 -> 333250 | E5: =D5-C5 -> -6750
B6: 支出合計 | C6: =C35+C48 -> 301280 | D6: =D35+D48 -> 295970 | E6: =C6-D6 -> 5310
B7: 収支(収入−支出) | C7: =C5-C6 -> 38720 | D7: =D5-D6 -> 37280 | E7: =D7-C7 -> -1440
B8: 貯蓄率(実績) | D8: =IF(D5=0,"-",D7/D5) -> 0.11186797
B10: 今月のふり返り:
B16: 収入
B17: 項目 | C17: 予算 | D17: 実績 | E17: 差額(実績−予算) | F17: メモ
B18: 給与(手取り) | C18: 325000 | D18: 323090 | E18: =D18-C18 -> -1910
B19: 賞与 | E19: =D19-C19 -> 0
B20: 副業収入 | C20: 15000 | D20: 6660 | E20: =D20-C20 -> -8340
B21: その他収入 | C21: 0 | D21: 3500 | E21: =D21-C21 -> 3500
B22: 小計 | C22: =SUM(C18:C21) -> 340000 | D22: =SUM(D18:D21) -> 333250 | E22: =SUM(E18:E21) -> -6750
B24: 支出(固定費)
B25: 項目 | C25: 予算 | D25: 実績 | E25: 差額 | F25: メモ
B26: 住居費(家賃・ローン) | C26: 85000 | D26: 85000 | E26: =C26-D26 -> 0
B27: 電気代 | C27: 11000 | D27: 8200 | E27: =C27-D27 -> 2800
B28: ガス代 | C28: 5500 | D28: 5600 | E28: =C28-D28 -> -100
B29: 水道代 | C29: 3500 | D29: 3550 | E29: =C29-D29 -> -50
B30: 通信費(スマホ・ネット) | C30: 9800 | D30: 10190 | E30: =C30-D30 -> -390
B31: 保険料 | C31: 18500 | D31: 18500 | E31: =C31-D31 -> 0
B32: サブスク | C32: 3980 | D32: 3980 | E32: =C32-D32 -> 0
B33: 教育費 | C33: 25000 | D33: 25000 | E33: =C33-D33 -> 0
B34: 車両費(ローン・駐車場) | C34: 15000 | D34: 15000 | E34: =C34-D34 -> 0
B35: 小計 | C35: =SUM(C26:C34) -> 177280 | D35: =SUM(D26:D34) -> 175020 | E35: =SUM(E26:E34) -> 2260
B37: 支出(変動費)
B38: 項目 | C38: 予算 | D38: 実績 | E38: 差額 | F38: メモ
B39: 食費 | C39: 60000 | D39: 57610 | E39: =C39-D39 -> 2390
B40: 日用品 | C40: 8000 | D40: 7560 | E40: =C40-D40 -> 440
B41: 交通費 | C41: 6000 | D41: 4850 | E41: =C41-D41 -> 1150
B42: 医療費 | C42: 3000 | D42: 460 | E42: =C42-D42 -> 2540
B43: 衣服・美容 | C43: 10000 | D43: 23710 | E43: =C43-D43 -> -13710 | F43: 子どもの新学期の服
B44: 交際費 | C44: 10000 | D44: 9820 | E44: =C44-D44 -> 180
B45: 趣味・娯楽 | C45: 12000 | D45: 11980 | E45: =C45-D45 -> 20
B46: 特別費(冠婚葬祭など) | C46: 10000 | D46: 0 | E46: =C46-D46 -> 10000
B47: その他支出 | C47: 5000 | D47: 4960 | E47: =C47-D47 -> 40
B48: 小計 | C48: =SUM(C39:C47) -> 124000 | D48: =SUM(D39:D47) -> 120950 | E48: =SUM(E39:E47) -> 3050

Sheet 5月
B1: 5月 MAY | C1: ____年 家計簿(収入・支出)
B2: 入力方法:薄い黄色のセル(予算・実績・メモ)に金額を入力してください。合計・差額は自動計算されます。 例)食費 予算 60,000/実績 58,320 → 差額 1,680
B4: 月間サマリー | C4: 予算 | D4: 実績 | E4: 差額
B5: 収入合計 | C5: =C22 -> 340000 | D5: =D22 -> 330000 | E5: =D5-C5 -> -10000
B6: 支出合計 | C6: =C35+C48 -> 301280 | D6: =D35+D48 -> 302200 | E6: =C6-D6 -> -920
B7: 収支(収入−支出) | C7: =C5-C6 -> 38720 | D7: =D5-D6 -> 27800 | E7: =D7-C7 -> -10920
B8: 貯蓄率(実績) | D8: =IF(D5=0,"-",D7/D5) -> 0.084242424
B10: 今月のふり返り:
B16: 収入
B17: 項目 | C17: 予算 | D17: 実績 | E17: 差額(実績−予算) | F17: メモ
B18: 給与(手取り) | C18: 325000 | D18: 320820 | E18: =D18-C18 -> -4180
B19: 賞与 | E19: =D19-C19 -> 0
B20: 副業収入 | C20: 15000 | D20: 7980 | E20: =D20-C20 -> -7020
B21: その他収入 | C21: 0 | D21: 1200 | E21: =D21-C21 -> 1200
B22: 小計 | C22: =SUM(C18:C21) -> 340000 | D22: =SUM(D18:D21) -> 330000 | E22: =SUM(E18:E21) -> -10000
B24: 支出(固定費)
B25: 項目 | C25: 予算 | D25: 実績 | E25: 差額 | F25: メモ
B26: 住居費(家賃・ローン) | C26: 85000 | D26: 85000 | E26: =C26-D26 -> 0
B27: 電気代 | C27: 11000 | D27: 7400 | E27: =C27-D27 -> 3600
B28: ガス代 | C28: 5500 | D28: 4500 | E28: =C28-D28 -> 1000
B29: 水道代 | C29: 3500 | D29: 3110 | E29: =C29-D29 -> 390
B30: 通信費(スマホ・ネット) | C30: 9800 | D30: 9530 | E30: =C30-D30 -> 270
B31: 保険料 | C31: 18500 | D31: 18500 | E31: =C31-D31 -> 0
B32: サブスク | C32: 3980 | D32: 3980 | E32: =C32-D32 -> 0
B33: 教育費 | C33: 25000 | D33: 25000 | E33: =C33-D33 -> 0
B34: 車両費(ローン・駐車場) | C34: 15000 | D34: 15000 | E34: =C34-D34 -> 0
B35: 小計 | C35: =SUM(C26:C34) -> 177280 | D35: =SUM(D26:D34) -> 172020 | E35: =SUM(E26:E34) -> 5260
B37: 支出(変動費)
B38: 項目 | C38: 予算 | D38: 実績 | E38: 差額 | F38: メモ
B39: 食費 | C39: 60000 | D39: 59910 | E39: =C39-D39 -> 90
B40: 日用品 | C40: 8000 | D40: 8140 | E40: =C40-D40 -> -140
B41: 交通費 | C41: 6000 | D41: 5740 | E41: =C41-D41 -> 260
B42: 医療費 | C42: 3000 | D42: 2010 | E42: =C42-D42 -> 990
B43: 衣服・美容 | C43: 10000 | D43: 10570 | E43: =C43-D43 -> -570
B44: 交際費 | C44: 10000 | D44: 7160 | E44: =C44-D44 -> 2840
B45: 趣味・娯楽 | C45: 12000 | D45: 24000 | E45: =C45-D45 -> -12000 | F45: GWのお出かけ
B46: 特別費(冠婚葬祭など) | C46: 10000 | D46: 8000 | E46: =C46-D46 -> 2000
B47: その他支出 | C47: 5000 | D47: 4650 | E47: =C47-D47 -> 350
B48: 小計 | C48: =SUM(C39:C47) -> 124000 | D48: =SUM(D39:D47) -> 130180 | E48: =SUM(E39:E47) -> -6180

Sheet 6月
B1: 6月 JUN | C1: ____年 家計簿(収入・支出)
B2: 入力方法:薄い黄色のセル(予算・実績・メモ)に金額を入力してください。合計・差額は自動計算されます。 例)食費 予算 60,000/実績 58,320 → 差額 1,680
B4: 月間サマリー | C4: 予算 | D4: 実績 | E4: 差額
B5: 収入合計 | C5: =C22 -> 790000 | D5: =D22 -> 797850 | E5: =D5-C5 -> 7850
B6: 支出合計 | C6: =C35+C48 -> 301280 | D6: =D35+D48 -> 272520 | E6: =C6-D6 -> 28760
B7: 収支(収入−支出) | C7: =C5-C6 -> 488720 | D7: =D5-D6 -> 525330 | E7: =D7-C7 -> 36610
B8: 貯蓄率(実績) | D8: =IF(D5=0,"-",D7/D5) -> 0.65843204
B10: 今月のふり返り:ボーナス月。半分は貯蓄に回す。
B16: 収入
B17: 項目 | C17: 予算 | D17: 実績 | E17: 差額(実績−予算) | F17: メモ
B18: 給与(手取り) | C18: 325000 | D18: 332520 | E18: =D18-C18 -> 7520
B19: 賞与 | C19: 450000 | D19: 450640 | E19: =D19-C19 -> 640 | F19: 夏のボーナス
B20: 副業収入 | C20: 15000 | D20: 11190 | E20: =D20-C20 -> -3810
B21: その他収入 | C21: 0 | D21: 3500 | E21: =D21-C21 -> 3500
B22: 小計 | C22: =SUM(C18:C21) -> 790000 | D22: =SUM(D18:D21) -> 797850 | E22: =SUM(E18:E21) -> 7850
B24: 支出(固定費)
B25: 項目 | C25: 予算 | D25: 実績 | E25: 差額 | F25: メモ
B26: 住居費(家賃・ローン) | C26: 85000 | D26: 85000 | E26: =C26-D26 -> 0
B27: 電気代 | C27: 11000 | D27: 9100 | E27: =C27-D27 -> 1900
B28: ガス代 | C28: 5500 | D28: 3900 | E28: =C28-D28 -> 1600
B29: 水道代 | C29: 3500 | D29: 3120 | E29: =C29-D29 -> 380
B30: 通信費(スマホ・ネット) | C30: 9800 | D30: 10130 | E30: =C30-D30 -> -330
B31: 保険料 | C31: 18500 | D31: 18500 | E31: =C31-D31 -> 0
B32: サブスク | C32: 3980 | D32: 3980 | E32: =C32-D32 -> 0
B33: 教育費 | C33: 25000 | D33: 25000 | E33: =C33-D33 -> 0
B34: 車両費(ローン・駐車場) | C34: 15000 | D34: 15000 | E34: =C34-D34 -> 0
B35: 小計 | C35: =SUM(C26:C34) -> 177280 | D35: =SUM(D26:D34) -> 173730 | E35: =SUM(E26:E34) -> 3550
B37: 支出(変動費)
B38: 項目 | C38: 予算 | D38: 実績 | E38: 差額 | F38: メモ
B39: 食費 | C39: 60000 | D39: 55860 | E39: =C39-D39 -> 4140
B40: 日用品 | C40: 8000 | D40: 8160 | E40: =C40-D40 -> -160
B41: 交通費 | C41: 6000 | D41: 5960 | E41: =C41-D41 -> 40
B42: 医療費 | C42: 3000 | D42: 610 | E42: =C42-D42 -> 2390
B43: 衣服・美容 | C43: 10000 | D43: 6890 | E43: =C43-D43 -> 3110
B44: 交際費 | C44: 10000 | D44: 8950 | E44: =C44-D44 -> 1050
B45: 趣味・娯楽 | C45: 12000 | D45: 8080 | E45: =C45-D45 -> 3920
B46: 特別費(冠婚葬祭など) | C46: 10000 | D46: 0 | E46: =C46-D46 -> 10000
B47: その他支出 | C47: 5000 | D47: 4280 | E47: =C47-D47 -> 720
B48: 小計 | C48: =SUM(C39:C47) -> 124000 | D48: =SUM(D39:D47) -> 98790 | E48: =SUM(E39:E47) -> 25210

Sheet 7月
B1: 7月 JUL | C1: ____年 家計簿(収入・支出)
B2: 入力方法:薄い黄色のセル(予算・実績・メモ)に金額を入力してください。合計・差額は自動計算されます。 例)食費 予算 60,000/実績 58,320 → 差額 1,680
B4: 月間サマリー | C4: 予算 | D4: 実績 | E4: 差額
B5: 収入合計 | C5: =C22 -> 340000 | D5: =D22 -> 344230 | E5: =D5-C5 -> 4230
B6: 支出合計 | C6: =C35+C48 -> 301280 | D6: =D35+D48 -> 289670 | E6: =C6-D6 -> 11610
B7: 収支(収入−支出) | C7: =C5-C6 -> 38720 | D7: =D5-D6 -> 54560 | E7: =D7-C7 -> 15840
B8: 貯蓄率(実績) | D8: =IF(D5=0,"-",D7/D5) -> 0.15849868
B10: 今月のふり返り:
B16: 収入
B17: 項目 | C17: 予算 | D17: 実績 | E17: 差額(実績−予算) | F17: メモ
B18: 給与(手取り) | C18: 325000 | D18: 329020 | E18: =D18-C18 -> 4020
B19: 賞与 | E19: =D19-C19 -> 0
B20: 副業収入 | C20: 15000 | D20: 15210 | E20: =D20-C20 -> 210
B21: その他収入 | D21: 0 | E21: =D21-C21 -> 0
B22: 小計 | C22: =SUM(C18:C21) -> 340000 | D22: =SUM(D18:D21) -> 344230 | E22: =SUM(E18:E21) -> 4230
B24: 支出(固定費)
B25: 項目 | C25: 予算 | D25: 実績 | E25: 差額 | F25: メモ
B26: 住居費(家賃・ローン) | C26: 85000 | D26: 85000 | E26: =C26-D26 -> 0
B27: 電気代 | C27: 11000 | D27: 12800 | E27: =C27-D27 -> -1800
B28: ガス代 | C28: 5500 | D28: 3400 | E28: =C28-D28 -> 2100
B29: 水道代 | C29: 3500 | D29: 3890 | E29: =C29-D29 -> -390
B30: 通信費(スマホ・ネット) | C30: 9800 | D30: 10140 | E30: =C30-D30 -> -340
B31: 保険料 | C31: 18500 | D31: 18500 | E31: =C31-D31 -> 0
B32: サブスク | C32: 3980 | D32: 3980 | E32: =C32-D32 -> 0
B33: 教育費 | C33: 25000 | D33: 25000 | E33: =C33-D33 -> 0
B34: 車両費(ローン・駐車場) | C34: 15000 | D34: 15000 | E34: =C34-D34 -> 0
B35: 小計 | C35: =SUM(C26:C34) -> 177280 | D35: =SUM(D26:D34) -> 177710 | E35: =SUM(E26:E34) -> -430
B37: 支出(変動費)
B38: 項目 | C38: 予算 | D38: 実績 | E38: 差額 | F38: メモ
B39: 食費 | C39: 60000 | D39: 57710 | E39: =C39-D39 -> 2290
B40: 日用品 | C40: 8000 | D40: 9390 | E40: =C40-D40 -> -1390
B41: 交通費 | C41: 6000 | D41: 4930 | E41: =C41-D41 -> 1070
B42: 医療費 | C42: 3000 | D42: 2300 | E42: =C42-D42 -> 700
B43: 衣服・美容 | C43: 10000 | D43: 7290 | E43: =C43-D43 -> 2710
B44: 交際費 | C44: 10000 | D44: 8880 | E44: =C44-D44 -> 1120
B45: 趣味・娯楽 | C45: 12000 | D45: 13800 | E45: =C45-D45 -> -1800
B46: 特別費(冠婚葬祭など) | C46: 10000 | D46: 3000 | E46: =C46-D46 -> 7000
B47: その他支出 | C47: 5000 | D47: 4660 | E47: =C47-D47 -> 340
B48: 小計 | C48: =SUM(C39:C47) -> 124000 | D48: =SUM(D39:D47) -> 111960 | E48: =SUM(E39:E47) -> 12040

Sheet 8月
B1: 8月 AUG | C1: ____年 家計簿(収入・支出)
B2: 入力方法:薄い黄色のセル(予算・実績・メモ)に金額を入力してください。合計・差額は自動計算されます。 例)食費 予算 60,000/実績 58,320 → 差額 1,680
B4: 月間サマリー | C4: 予算 | D4: 実績 | E4: 差額
B5: 収入合計 | C5: =C22 -> 340000 | D5: =D22 -> 352990 | E5: =D5-C5 -> 12990
B6: 支出合計 | C6: =C35+C48 -> 301280 | D6: =D35+D48 -> 333750 | E6: =C6-D6 -> -32470
B7: 収支(収入−支出) | C7: =C5-C6 -> 38720 | D7: =D5-D6 -> 19240 | E7: =D7-C7 -> -19480
B8: 貯蓄率(実績) | D8: =IF(D5=0,"-",D7/D5) -> 0.054505793
B10: 今月のふり返り:旅行で娯楽費オーバー。電気代も高め。
B16: 収入
B17: 項目 | C17: 予算 | D17: 実績 | E17: 差額(実績−予算) | F17: メモ
B18: 給与(手取り) | C18: 325000 | D18: 328800 | E18: =D18-C18 -> 3800
B19: 賞与 | E19: =D19-C19 -> 0
B20: 副業収入 | C20: 15000 | D20: 24190 | E20: =D20-C20 -> 9190
B21: その他収入 | D21: 0 | E21: =D21-C21 -> 0
B22: 小計 | C22: =SUM(C18:C21) -> 340000 | D22: =SUM(D18:D21) -> 352990 | E22: =SUM(E18:E21) -> 12990
B24: 支出(固定費)
B25: 項目 | C25: 予算 | D25: 実績 | E25: 差額 | F25: メモ
B26: 住居費(家賃・ローン) | C26: 85000 | D26: 85000 | E26: =C26-D26 -> 0
B27: 電気代 | C27: 11000 | D27: 15600 | E27: =C27-D27 -> -4600
B28: ガス代 | C28: 5500 | D28: 3300 | E28: =C28-D28 -> 2200
B29: 水道代 | C29: 3500 | D29: 3220 | E29: =C29-D29 -> 280
B30: 通信費(スマホ・ネット) | C30: 9800 | D30: 10030 | E30: =C30-D30 -> -230
B31: 保険料 | C31: 18500 | D31: 18500 | E31: =C31-D31 -> 0
B32: サブスク | C32: 3980 | D32: 3980 | E32: =C32-D32 -> 0
B33: 教育費 | C33: 25000 | D33: 25000 | E33: =C33-D33 -> 0
B34: 車両費(ローン・駐車場) | C34: 15000 | D34: 15000 | E34: =C34-D34 -> 0
B35: 小計 | C35: =SUM(C26:C34) -> 177280 | D35: =SUM(D26:D34) -> 179630 | E35: =SUM(E26:E34) -> -2350
B37: 支出(変動費)
B38: 項目 | C38: 予算 | D38: 実績 | E38: 差額 | F38: メモ
B39: 食費 | C39: 60000 | D39: 55260 | E39: =C39-D39 -> 4740
B40: 日用品 | C40: 8000 | D40: 7030 | E40: =C40-D40 -> 970
B41: 交通費 | C41: 6000 | D41: 5950 | E41: =C41-D41 -> 50
B42: 医療費 | C42: 3000 | D42: 2450 | E42: =C42-D42 -> 550
B43: 衣服・美容 | C43: 10000 | D43: 6040 | E43: =C43-D43 -> 3960
B44: 交際費 | C44: 10000 | D44: 5630 | E44: =C44-D44 -> 4370
B45: 趣味・娯楽 | C45: 12000 | D45: 68000 | E45: =C45-D45 -> -56000 | F45: 夏休みの家族旅行
B46: 特別費(冠婚葬祭など) | C46: 10000 | D46: 0 | E46: =C46-D46 -> 10000
B47: その他支出 | C47: 5000 | D47: 3760 | E47: =C47-D47 -> 1240
B48: 小計 | C48: =SUM(C39:C47) -> 124000 | D48: =SUM(D39:D47) -> 154120 | E48: =SUM(E39:E47) -> -30120

Sheet 9月
B1: 9月 SEP | C1: ____年 家計簿(収入・支出)
B2: 入力方法:薄い黄色のセル(予算・実績・メモ)に金額を入力してください。合計・差額は自動計算されます。 例)食費 予算 60,000/実績 58,320 → 差額 1,680
B4: 月間サマリー | C4: 予算 | D4: 実績 | E4: 差額
B5: 収入合計 | C5: =C22 -> 340000 | D5: =D22 -> 330970 | E5: =D5-C5 -> -9030
B6: 支出合計 | C6: =C35+C48 -> 301280 | D6: =D35+D48 -> 289600 | E6: =C6-D6 -> 11680
B7: 収支(収入−支出) | C7: =C5-C6 -> 38720 | D7: =D5-D6 -> 41370 | E7: =D7-C7 -> 2650
B8: 貯蓄率(実績) | D8: =IF(D5=0,"-",D7/D5) -> 0.12499622
B10: 今月のふり返り:
B16: 収入
B17: 項目 | C17: 予算 | D17: 実績 | E17: 差額(実績−予算) | F17: メモ
B18: 給与(手取り) | C18: 325000 | D18: 322780 | E18: =D18-C18 -> -2220
B19: 賞与 | E19: =D19-C19 -> 0
B20: 副業収入 | C20: 15000 | D20: 6990 | E20: =D20-C20 -> -8010
B21: その他収入 | C21: 0 | D21: 1200 | E21: =D21-C21 -> 1200
B22: 小計 | C22: =SUM(C18:C21) -> 340000 | D22: =SUM(D18:D21) -> 330970 | E22: =SUM(E18:E21) -> -9030
B24: 支出(固定費)
B25: 項目 | C25: 予算 | D25: 実績 | E25: 差額 | F25: メモ
B26: 住居費(家賃・ローン) | C26: 85000 | D26: 85000 | E26: =C26-D26 -> 0
B27: 電気代 | C27: 11000 | D27: 11900 | E27: =C27-D27 -> -900
B28: ガス代 | C28: 5500 | D28: 3600 | E28: =C28-D28 -> 1900
B29: 水道代 | C29: 3500 | D29: 3130 | E29: =C29-D29 -> 370
B30: 通信費(スマホ・ネット) | C30: 9800 | D30: 10170 | E30: =C30-D30 -> -370
B31: 保険料 | C31: 18500 | D31: 18500 | E31: =C31-D31 -> 0
B32: サブスク | C32: 3980 | D32: 3980 | E32: =C32-D32 -> 0
B33: 教育費 | C33: 25000 | D33: 25000 | E33: =C33-D33 -> 0
B34: 車両費(ローン・駐車場) | C34: 15000 | D34: 15000 | E34: =C34-D34 -> 0
B35: 小計 | C35: =SUM(C26:C34) -> 177280 | D35: =SUM(D26:D34) -> 176280 | E35: =SUM(E26:E34) -> 1000
B37: 支出(変動費)
B38: 項目 | C38: 予算 | D38: 実績 | E38: 差額 | F38: メモ
B39: 食費 | C39: 60000 | D39: 53140 | E39: =C39-D39 -> 6860
B40: 日用品 | C40: 8000 | D40: 8270 | E40: =C40-D40 -> -270
B41: 交通費 | C41: 6000 | D41: 4840 | E41: =C41-D41 -> 1160
B42: 医療費 | C42: 3000 | D42: 10280 | E42: =C42-D42 -> -7280 | F42: 歯医者
B43: 衣服・美容 | C43: 10000 | D43: 6170 | E43: =C43-D43 -> 3830
B44: 交際費 | C44: 10000 | D44: 6590 | E44: =C44-D44 -> 3410
B45: 趣味・娯楽 | C45: 12000 | D45: 11900 | E45: =C45-D45 -> 100
B46: 特別費(冠婚葬祭など) | C46: 10000 | D46: 8000 | E46: =C46-D46 -> 2000
B47: その他支出 | C47: 5000 | D47: 4130 | E47: =C47-D47 -> 870
B48: 小計 | C48: =SUM(C39:C47) -> 124000 | D48: =SUM(D39:D47) -> 113320 | E48: =SUM(E39:E47) -> 10680

Sheet 10月
B1: 10月 OCT | C1: ____年 家計簿(収入・支出)
B2: 入力方法:薄い黄色のセル(予算・実績・メモ)に金額を入力してください。合計・差額は自動計算されます。 例)食費 予算 60,000/実績 58,320 → 差額 1,680
B4: 月間サマリー | C4: 予算 | D4: 実績 | E4: 差額
B5: 収入合計 | C5: =C22 -> 340000 | D5: =D22 -> 330780 | E5: =D5-C5 -> -9220
B6: 支出合計 | C6: =C35+C48 -> 301280 | D6: =D35+D48 -> 277110 | E6: =C6-D6 -> 24170
B7: 収支(収入−支出) | C7: =C5-C6 -> 38720 | D7: =D5-D6 -> 53670 | E7: =D7-C7 -> 14950
B8: 貯蓄率(実績) | D8: =IF(D5=0,"-",D7/D5) -> 0.16225286
B10: 今月のふり返り:
B16: 収入
B17: 項目 | C17: 予算 | D17: 実績 | E17: 差額(実績−予算) | F17: メモ
B18: 給与(手取り) | C18: 325000 | D18: 320020 | E18: =D18-C18 -> -4980
B19: 賞与 | E19: =D19-C19 -> 0
B20: 副業収入 | C20: 15000 | D20: 9560 | E20: =D20-C20 -> -5440
B21: その他収入 | C21: 0 | D21: 1200 | E21: =D21-C21 -> 1200
B22: 小計 | C22: =SUM(C18:C21) -> 340000 | D22: =SUM(D18:D21) -> 330780 | E22: =SUM(E18:E21) -> -9220
B24: 支出(固定費)
B25: 項目 | C25: 予算 | D25: 実績 | E25: 差額 | F25: メモ
B26: 住居費(家賃・ローン) | C26: 85000 | D26: 85000 | E26: =C26-D26 -> 0
B27: 電気代 | C27: 11000 | D27: 8300 | E27: =C27-D27 -> 2700
B28: ガス代 | C28: 5500 | D28: 4200 | E28: =C28-D28 -> 1300
B29: 水道代 | C29: 3500 | D29: 3520 | E29: =C29-D29 -> -20
B30: 通信費(スマホ・ネット) | C30: 9800 | D30: 9780 | E30: =C30-D30 -> 20
B31: 保険料 | C31: 18500 | D31: 18500 | E31: =C31-D31 -> 0
B32: サブスク | C32: 3980 | D32: 3980 | E32: =C32-D32 -> 0
B33: 教育費 | C33: 25000 | D33: 25000 | E33: =C33-D33 -> 0
B34: 車両費(ローン・駐車場) | C34: 15000 | D34: 15000 | E34: =C34-D34 -> 0
B35: 小計 | C35: =SUM(C26:C34) -> 177280 | D35: =SUM(D26:D34) -> 173280 | E35: =SUM(E26:E34) -> 4000
B37: 支出(変動費)
B38: 項目 | C38: 予算 | D38: 実績 | E38: 差額 | F38: メモ
B39: 食費 | C39: 60000 | D39: 55140 | E39: =C39-D39 -> 4860
B40: 日用品 | C40: 8000 | D40: 5940 | E40: =C40-D40 -> 2060
B41: 交通費 | C41: 6000 | D41: 4710 | E41: =C41-D41 -> 1290
B42: 医療費 | C42: 3000 | D42: 3990 | E42: =C42-D42 -> -990
B43: 衣服・美容 | C43: 10000 | D43: 6660 | E43: =C43-D43 -> 3340
B44: 交際費 | C44: 10000 | D44: 6760 | E44: =C44-D44 -> 3240
B45: 趣味・娯楽 | C45: 12000 | D45: 12380 | E45: =C45-D45 -> -380
B46: 特別費(冠婚葬祭など) | C46: 10000 | D46: 3000 | E46: =C46-D46 -> 7000
B47: その他支出 | C47: 5000 | D47: 5250 | E47: =C47-D47 -> -250
B48: 小計 | C48: =SUM(C39:C47) -> 124000 | D48: =SUM(D39:D47) -> 103830 | E48: =SUM(E39:E47) -> 20170

Sheet 11月
B1: 11月 NOV | C1: ____年 家計簿(収入・支出)
B2: 入力方法:薄い黄色のセル(予算・実績・メモ)に金額を入力してください。合計・差額は自動計算されます。 例)食費 予算 60,000/実績 58,320 → 差額 1,680
B4: 月間サマリー | C4: 予算 | D4: 実績 | E4: 差額
B5: 収入合計 | C5: =C22 -> 340000 | D5: =D22 -> 343400 | E5: =D5-C5 -> 3400
B6: 支出合計 | C6: =C35+C48 -> 301280 | D6: =D35+D48 -> 272920 | E6: =C6-D6 -> 28360
B7: 収支(収入−支出) | C7: =C5-C6 -> 38720 | D7: =D5-D6 -> 70480 | E7: =D7-C7 -> 31760
B8: 貯蓄率(実績) | D8: =IF(D5=0,"-",D7/D5) -> 0.2052417
B10: 今月のふり返り:
B16: 収入
B17: 項目 | C17: 予算 | D17: 実績 | E17: 差額(実績−予算) | F17: メモ
B18: 給与(手取り) | C18: 325000 | D18: 321730 | E18: =D18-C18 -> -3270
B19: 賞与 | E19: =D19-C19 -> 0
B20: 副業収入 | C20: 15000 | D20: 18170 | E20: =D20-C20 -> 3170
B21: その他収入 | C21: 0 | D21: 3500 | E21: =D21-C21 -> 3500
B22: 小計 | C22: =SUM(C18:C21) -> 340000 | D22: =SUM(D18:D21) -> 343400 | E22: =SUM(E18:E21) -> 3400
B24: 支出(固定費)
B25: 項目 | C25: 予算 | D25: 実績 | E25: 差額 | F25: メモ
B26: 住居費(家賃・ローン) | C26: 85000 | D26: 85000 | E26: =C26-D26 -> 0
B27: 電気代 | C27: 11000 | D27: 9200 | E27: =C27-D27 -> 1800
B28: ガス代 | C28: 5500 | D28: 5600 | E28: =C28-D28 -> -100
B29: 水道代 | C29: 3500 | D29: 3360 | E29: =C29-D29 -> 140
B30: 通信費(スマホ・ネット) | C30: 9800 | D30: 9660 | E30: =C30-D30 -> 140
B31: 保険料 | C31: 18500 | D31: 18500 | E31: =C31-D31 -> 0
B32: サブスク | C32: 3980 | D32: 3980 | E32: =C32-D32 -> 0
B33: 教育費 | C33: 25000 | D33: 25000 | E33: =C33-D33 -> 0
B34: 車両費(ローン・駐車場) | C34: 15000 | D34: 15000 | E34: =C34-D34 -> 0
B35: 小計 | C35: =SUM(C26:C34) -> 177280 | D35: =SUM(D26:D34) -> 175300 | E35: =SUM(E26:E34) -> 1980
B37: 支出(変動費)
B38: 項目 | C38: 予算 | D38: 実績 | E38: 差額 | F38: メモ
B39: 食費 | C39: 60000 | D39: 56140 | E39: =C39-D39 -> 3860
B40: 日用品 | C40: 8000 | D40: 6440 | E40: =C40-D40 -> 1560 | F40: 冬物の買い替え
B41: 交通費 | C41: 6000 | D41: 4770 | E41: =C41-D41 -> 1230
B42: 医療費 | C42: 3000 | D42: 960 | E42: =C42-D42 -> 2040
B43: 衣服・美容 | C43: 10000 | D43: 6670 | E43: =C43-D43 -> 3330
B44: 交際費 | C44: 10000 | D44: 3910 | E44: =C44-D44 -> 6090
B45: 趣味・娯楽 | C45: 12000 | D45: 10270 | E45: =C45-D45 -> 1730
B46: 特別費(冠婚葬祭など) | C46: 10000 | D46: 3000 | E46: =C46-D46 -> 7000
B47: その他支出 | C47: 5000 | D47: 5460 | E47: =C47-D47 -> -460
B48: 小計 | C48: =SUM(C39:C47) -> 124000 | D48: =SUM(D39:D47) -> 97620 | E48: =SUM(E39:E47) -> 26380

Sheet 12月
B1: 12月 DEC | C1: ____年 家計簿(収入・支出)
B2: 入力方法:薄い黄色のセル(予算・実績・メモ)に金額を入力してください。合計・差額は自動計算されます。 例)食費 予算 60,000/実績 58,320 → 差額 1,680
B4: 月間サマリー | C4: 予算 | D4: 実績 | E4: 差額
B5: 収入合計 | C5: =C22 -> 860000 | D5: =D22 -> 878380 | E5: =D5-C5 -> 18380
B6: 支出合計 | C6: =C35+C48 -> 301280 | D6: =D35+D48 -> 321010 | E6: =C6-D6 -> -19730
B7: 収支(収入−支出) | C7: =C5-C6 -> 558720 | D7: =D5-D6 -> 557370 | E7: =D7-C7 -> -1350
B8: 貯蓄率(実績) | D8: =IF(D5=0,"-",D7/D5) -> 0.63454314
B10: 今月のふり返り:ボーナスで大きく黒字。年末の出費が多かった。
B16: 収入
B17: 項目 | C17: 予算 | D17: 実績 | E17: 差額(実績−予算) | F17: メモ
B18: 給与(手取り) | C18: 325000 | D18: 326800 | E18: =D18-C18 -> 1800
B19: 賞与 | C19: 520000 | D19: 533960 | E19: =D19-C19 -> 13960 | F19: 冬のボーナス
B20: 副業収入 | C20: 15000 | D20: 16420 | E20: =D20-C20 -> 1420
B21: その他収入 | C21: 0 | D21: 1200 | E21: =D21-C21 -> 1200
B22: 小計 | C22: =SUM(C18:C21) -> 860000 | D22: =SUM(D18:D21) -> 878380 | E22: =SUM(E18:E21) -> 18380
B24: 支出(固定費)
B25: 項目 | C25: 予算 | D25: 実績 | E25: 差額 | F25: メモ
B26: 住居費(家賃・ローン) | C26: 85000 | D26: 85000 | E26: =C26-D26 -> 0
B27: 電気代 | C27: 11000 | D27: 12900 | E27: =C27-D27 -> -1900
B28: ガス代 | C28: 5500 | D28: 7100 | E28: =C28-D28 -> -1600
B29: 水道代 | C29: 3500 | D29: 3300 | E29: =C29-D29 -> 200
B30: 通信費(スマホ・ネット) | C30: 9800 | D30: 10230 | E30: =C30-D30 -> -430
B31: 保険料 | C31: 18500 | D31: 18500 | E31: =C31-D31 -> 0
B32: サブスク | C32: 3980 | D32: 3980 | E32: =C32-D32 -> 0
B33: 教育費 | C33: 25000 | D33: 25000 | E33: =C33-D33 -> 0
B34: 車両費(ローン・駐車場) | C34: 15000 | D34: 15000 | E34: =C34-D34 -> 0
B35: 小計 | C35: =SUM(C26:C34) -> 177280 | D35: =SUM(D26:D34) -> 181010 | E35: =SUM(E26:E34) -> -3730
B37: 支出(変動費)
B38: 項目 | C38: 予算 | D38: 実績 | E38: 差額 | F38: メモ
B39: 食費 | C39: 60000 | D39: 69030 | E39: =C39-D39 -> -9030 | F39: 年末年始の買い出し
B40: 日用品 | C40: 8000 | D40: 9380 | E40: =C40-D40 -> -1380
B41: 交通費 | C41: 6000 | D41: 6780 | E41: =C41-D41 -> -780
B42: 医療費 | C42: 3000 | D42: 1820 | E42: =C42-D42 -> 1180
B43: 衣服・美容 | C43: 10000 | D43: 5140 | E43: =C43-D43 -> 4860
B44: 交際費 | C44: 10000 | D44: 21120 | E44: =C44-D44 -> -11120 | F44: 忘年会
B45: 趣味・娯楽 | C45: 12000 | D45: 7700 | E45: =C45-D45 -> 4300
B46: 特別費(冠婚葬祭など) | C46: 10000 | D46: 15000 | E46: =C46-D46 -> -5000
B47: その他支出 | C47: 5000 | D47: 4030 | E47: =C47-D47 -> 970
B48: 小計 | C48: =SUM(C39:C47) -> 124000 | D48: =SUM(D39:D47) -> 140000 | E48: =SUM(E39:E47) -> -16000
