Workbook

Sheet 年間集計
B1: ____年 家計簿 年間集計
B2: 各月シートの金額を自動で集計します(このシートへの入力は不要です)。
B3: 項目 | C3: 1月 | D3: 2月 | E3: 3月 | F3: 4月 | G3: 5月 | H3: 6月 | I3: 7月 | J3: 8月 | K3: 9月 | L3: 10月 | M3: 11月 | N3: 12月 | O3: 年間合計 | P3: 月平均(÷12)
B4: 収入
B5: 給与(手取り) | C5: ='1月'!C18 -> 0 | D5: ='2月'!C18 -> 0 | E5: ='3月'!C18 -> 0 | F5: ='4月'!C18 -> 0 | G5: ='5月'!C18 -> 0 | H5: ='6月'!C18 -> 0 | I5: ='7月'!C18 -> 0 | J5: ='8月'!C18 -> 0 | K5: ='9月'!C18 -> 0 | L5: ='10月'!C18 -> 0 | M5: ='11月'!C18 -> 0 | N5: ='12月'!C18 -> 0 | O5: =SUM(C5:N5) -> 0 | P5: =AVERAGE(C5:N5) -> 0
B6: 賞与 | C6: ='1月'!C19 -> 0 | D6: ='2月'!C19 -> 0 | E6: ='3月'!C19 -> 0 | F6: ='4月'!C19 -> 0 | G6: ='5月'!C19 -> 0 | H6: ='6月'!C19 -> 0 | I6: ='7月'!C19 -> 0 | J6: ='8月'!C19 -> 0 | K6: ='9月'!C19 -> 0 | L6: ='10月'!C19 -> 0 | M6: ='11月'!C19 -> 0 | N6: ='12月'!C19 -> 0 | O6: =SUM(C6:N6) -> 0 | P6: =AVERAGE(C6:N6) -> 0
B7: 副業収入 | C7: ='1月'!C20 -> 0 | D7: ='2月'!C20 -> 0 | E7: ='3月'!C20 -> 0 | F7: ='4月'!C20 -> 0 | G7: ='5月'!C20 -> 0 | H7: ='6月'!C20 -> 0 | I7: ='7月'!C20 -> 0 | J7: ='8月'!C20 -> 0 | K7: ='9月'!C20 -> 0 | L7: ='10月'!C20 -> 0 | M7: ='11月'!C20 -> 0 | N7: ='12月'!C20 -> 0 | O7: =SUM(C7:N7) -> 0 | P7: =AVERAGE(C7:N7) -> 0
B8: その他収入 | C8: ='1月'!C21 -> 0 | D8: ='2月'!C21 -> 0 | E8: ='3月'!C21 -> 0 | F8: ='4月'!C21 -> 0 | G8: ='5月'!C21 -> 0 | H8: ='6月'!C21 -> 0 | I8: ='7月'!C21 -> 0 | J8: ='8月'!C21 -> 0 | K8: ='9月'!C21 -> 0 | L8: ='10月'!C21 -> 0 | M8: ='11月'!C21 -> 0 | N8: ='12月'!C21 -> 0 | O8: =SUM(C8:N8) -> 0 | P8: =AVERAGE(C8:N8) -> 0
B9: 小計 | C9: ='1月'!C22 -> 0 | D9: ='2月'!C22 -> 0 | E9: ='3月'!C22 -> 0 | F9: ='4月'!C22 -> 0 | G9: ='5月'!C22 -> 0 | H9: ='6月'!C22 -> 0 | I9: ='7月'!C22 -> 0 | J9: ='8月'!C22 -> 0 | K9: ='9月'!C22 -> 0 | L9: ='10月'!C22 -> 0 | M9: ='11月'!C22 -> 0 | N9: ='12月'!C22 -> 0 | O9: =SUM(C9:N9) -> 0 | P9: =AVERAGE(C9:N9) -> 0
B11: 支出(固定費)
B12: 住居費(家賃・ローン) | C12: ='1月'!C26 -> 0 | D12: ='2月'!C26 -> 0 | E12: ='3月'!C26 -> 0 | F12: ='4月'!C26 -> 0 | G12: ='5月'!C26 -> 0 | H12: ='6月'!C26 -> 0 | I12: ='7月'!C26 -> 0 | J12: ='8月'!C26 -> 0 | K12: ='9月'!C26 -> 0 | L12: ='10月'!C26 -> 0 | M12: ='11月'!C26 -> 0 | N12: ='12月'!C26 -> 0 | O12: =SUM(C12:N12) -> 0 | P12: =AVERAGE(C12:N12) -> 0
B13: 電気代 | C13: ='1月'!C27 -> 0 | D13: ='2月'!C27 -> 0 | E13: ='3月'!C27 -> 0 | F13: ='4月'!C27 -> 0 | G13: ='5月'!C27 -> 0 | H13: ='6月'!C27 -> 0 | I13: ='7月'!C27 -> 0 | J13: ='8月'!C27 -> 0 | K13: ='9月'!C27 -> 0 | L13: ='10月'!C27 -> 0 | M13: ='11月'!C27 -> 0 | N13: ='12月'!C27 -> 0 | O13: =SUM(C13:N13) -> 0 | P13: =AVERAGE(C13:N13) -> 0
B14: ガス代 | C14: ='1月'!C28 -> 0 | D14: ='2月'!C28 -> 0 | E14: ='3月'!C28 -> 0 | F14: ='4月'!C28 -> 0 | G14: ='5月'!C28 -> 0 | H14: ='6月'!C28 -> 0 | I14: ='7月'!C28 -> 0 | J14: ='8月'!C28 -> 0 | K14: ='9月'!C28 -> 0 | L14: ='10月'!C28 -> 0 | M14: ='11月'!C28 -> 0 | N14: ='12月'!C28 -> 0 | O14: =SUM(C14:N14) -> 0 | P14: =AVERAGE(C14:N14) -> 0
B15: 水道代 | C15: ='1月'!C29 -> 0 | D15: ='2月'!C29 -> 0 | E15: ='3月'!C29 -> 0 | F15: ='4月'!C29 -> 0 | G15: ='5月'!C29 -> 0 | H15: ='6月'!C29 -> 0 | I15: ='7月'!C29 -> 0 | J15: ='8月'!C29 -> 0 | K15: ='9月'!C29 -> 0 | L15: ='10月'!C29 -> 0 | M15: ='11月'!C29 -> 0 | N15: ='12月'!C29 -> 0 | O15: =SUM(C15:N15) -> 0 | P15: =AVERAGE(C15:N15) -> 0
B16: 通信費(スマホ・ネット) | C16: ='1月'!C30 -> 0 | D16: ='2月'!C30 -> 0 | E16: ='3月'!C30 -> 0 | F16: ='4月'!C30 -> 0 | G16: ='5月'!C30 -> 0 | H16: ='6月'!C30 -> 0 | I16: ='7月'!C30 -> 0 | J16: ='8月'!C30 -> 0 | K16: ='9月'!C30 -> 0 | L16: ='10月'!C30 -> 0 | M16: ='11月'!C30 -> 0 | N16: ='12月'!C30 -> 0 | O16: =SUM(C16:N16) -> 0 | P16: =AVERAGE(C16:N16) -> 0
B17: 保険料 | C17: ='1月'!C31 -> 0 | D17: ='2月'!C31 -> 0 | E17: ='3月'!C31 -> 0 | F17: ='4月'!C31 -> 0 | G17: ='5月'!C31 -> 0 | H17: ='6月'!C31 -> 0 | I17: ='7月'!C31 -> 0 | J17: ='8月'!C31 -> 0 | K17: ='9月'!C31 -> 0 | L17: ='10月'!C31 -> 0 | M17: ='11月'!C31 -> 0 | N17: ='12月'!C31 -> 0 | O17: =SUM(C17:N17) -> 0 | P17: =AVERAGE(C17:N17) -> 0
B18: サブスク | C18: ='1月'!C32 -> 0 | D18: ='2月'!C32 -> 0 | E18: ='3月'!C32 -> 0 | F18: ='4月'!C32 -> 0 | G18: ='5月'!C32 -> 0 | H18: ='6月'!C32 -> 0 | I18: ='7月'!C32 -> 0 | J18: ='8月'!C32 -> 0 | K18: ='9月'!C32 -> 0 | L18: ='10月'!C32 -> 0 | M18: ='11月'!C32 -> 0 | N18: ='12月'!C32 -> 0 | O18: =SUM(C18:N18) -> 0 | P18: =AVERAGE(C18:N18) -> 0
B19: 教育費 | C19: ='1月'!C33 -> 0 | D19: ='2月'!C33 -> 0 | E19: ='3月'!C33 -> 0 | F19: ='4月'!C33 -> 0 | G19: ='5月'!C33 -> 0 | H19: ='6月'!C33 -> 0 | I19: ='7月'!C33 -> 0 | J19: ='8月'!C33 -> 0 | K19: ='9月'!C33 -> 0 | L19: ='10月'!C33 -> 0 | M19: ='11月'!C33 -> 0 | N19: ='12月'!C33 -> 0 | O19: =SUM(C19:N19) -> 0 | P19: =AVERAGE(C19:N19) -> 0
B20: 車両費(ローン・駐車場) | C20: ='1月'!C34 -> 0 | D20: ='2月'!C34 -> 0 | E20: ='3月'!C34 -> 0 | F20: ='4月'!C34 -> 0 | G20: ='5月'!C34 -> 0 | H20: ='6月'!C34 -> 0 | I20: ='7月'!C34 -> 0 | J20: ='8月'!C34 -> 0 | K20: ='9月'!C34 -> 0 | L20: ='10月'!C34 -> 0 | M20: ='11月'!C34 -> 0 | N20: ='12月'!C34 -> 0 | O20: =SUM(C20:N20) -> 0 | P20: =AVERAGE(C20:N20) -> 0
B21: 小計 | C21: ='1月'!C35 -> 0 | D21: ='2月'!C35 -> 0 | E21: ='3月'!C35 -> 0 | F21: ='4月'!C35 -> 0 | G21: ='5月'!C35 -> 0 | H21: ='6月'!C35 -> 0 | I21: ='7月'!C35 -> 0 | J21: ='8月'!C35 -> 0 | K21: ='9月'!C35 -> 0 | L21: ='10月'!C35 -> 0 | M21: ='11月'!C35 -> 0 | N21: ='12月'!C35 -> 0 | O21: =SUM(C21:N21) -> 0 | P21: =AVERAGE(C21:N21) -> 0
B23: 支出(変動費)
B24: 食費 | C24: ='1月'!C39 -> 0 | D24: ='2月'!C39 -> 0 | E24: ='3月'!C39 -> 0 | F24: ='4月'!C39 -> 0 | G24: ='5月'!C39 -> 0 | H24: ='6月'!C39 -> 0 | I24: ='7月'!C39 -> 0 | J24: ='8月'!C39 -> 0 | K24: ='9月'!C39 -> 0 | L24: ='10月'!C39 -> 0 | M24: ='11月'!C39 -> 0 | N24: ='12月'!C39 -> 0 | O24: =SUM(C24:N24) -> 0 | P24: =AVERAGE(C24:N24) -> 0
B25: 日用品 | C25: ='1月'!C40 -> 0 | D25: ='2月'!C40 -> 0 | E25: ='3月'!C40 -> 0 | F25: ='4月'!C40 -> 0 | G25: ='5月'!C40 -> 0 | H25: ='6月'!C40 -> 0 | I25: ='7月'!C40 -> 0 | J25: ='8月'!C40 -> 0 | K25: ='9月'!C40 -> 0 | L25: ='10月'!C40 -> 0 | M25: ='11月'!C40 -> 0 | N25: ='12月'!C40 -> 0 | O25: =SUM(C25:N25) -> 0 | P25: =AVERAGE(C25:N25) -> 0
B26: 交通費 | C26: ='1月'!C41 -> 0 | D26: ='2月'!C41 -> 0 | E26: ='3月'!C41 -> 0 | F26: ='4月'!C41 -> 0 | G26: ='5月'!C41 -> 0 | H26: ='6月'!C41 -> 0 | I26: ='7月'!C41 -> 0 | J26: ='8月'!C41 -> 0 | K26: ='9月'!C41 -> 0 | L26: ='10月'!C41 -> 0 | M26: ='11月'!C41 -> 0 | N26: ='12月'!C41 -> 0 | O26: =SUM(C26:N26) -> 0 | P26: =AVERAGE(C26:N26) -> 0
B27: 医療費 | C27: ='1月'!C42 -> 0 | D27: ='2月'!C42 -> 0 | E27: ='3月'!C42 -> 0 | F27: ='4月'!C42 -> 0 | G27: ='5月'!C42 -> 0 | H27: ='6月'!C42 -> 0 | I27: ='7月'!C42 -> 0 | J27: ='8月'!C42 -> 0 | K27: ='9月'!C42 -> 0 | L27: ='10月'!C42 -> 0 | M27: ='11月'!C42 -> 0 | N27: ='12月'!C42 -> 0 | O27: =SUM(C27:N27) -> 0 | P27: =AVERAGE(C27:N27) -> 0
B28: 衣服・美容 | C28: ='1月'!C43 -> 0 | D28: ='2月'!C43 -> 0 | E28: ='3月'!C43 -> 0 | F28: ='4月'!C43 -> 0 | G28: ='5月'!C43 -> 0 | H28: ='6月'!C43 -> 0 | I28: ='7月'!C43 -> 0 | J28: ='8月'!C43 -> 0 | K28: ='9月'!C43 -> 0 | L28: ='10月'!C43 -> 0 | M28: ='11月'!C43 -> 0 | N28: ='12月'!C43 -> 0 | O28: =SUM(C28:N28) -> 0 | P28: =AVERAGE(C28:N28) -> 0
B29: 交際費 | C29: ='1月'!C44 -> 0 | D29: ='2月'!C44 -> 0 | E29: ='3月'!C44 -> 0 | F29: ='4月'!C44 -> 0 | G29: ='5月'!C44 -> 0 | H29: ='6月'!C44 -> 0 | I29: ='7月'!C44 -> 0 | J29: ='8月'!C44 -> 0 | K29: ='9月'!C44 -> 0 | L29: ='10月'!C44 -> 0 | M29: ='11月'!C44 -> 0 | N29: ='12月'!C44 -> 0 | O29: =SUM(C29:N29) -> 0 | P29: =AVERAGE(C29:N29) -> 0
B30: 趣味・娯楽 | C30: ='1月'!C45 -> 0 | D30: ='2月'!C45 -> 0 | E30: ='3月'!C45 -> 0 | F30: ='4月'!C45 -> 0 | G30: ='5月'!C45 -> 0 | H30: ='6月'!C45 -> 0 | I30: ='7月'!C45 -> 0 | J30: ='8月'!C45 -> 0 | K30: ='9月'!C45 -> 0 | L30: ='10月'!C45 -> 0 | M30: ='11月'!C45 -> 0 | N30: ='12月'!C45 -> 0 | O30: =SUM(C30:N30) -> 0 | P30: =AVERAGE(C30:N30) -> 0
B31: 特別費(冠婚葬祭など) | C31: ='1月'!C46 -> 0 | D31: ='2月'!C46 -> 0 | E31: ='3月'!C46 -> 0 | F31: ='4月'!C46 -> 0 | G31: ='5月'!C46 -> 0 | H31: ='6月'!C46 -> 0 | I31: ='7月'!C46 -> 0 | J31: ='8月'!C46 -> 0 | K31: ='9月'!C46 -> 0 | L31: ='10月'!C46 -> 0 | M31: ='11月'!C46 -> 0 | N31: ='12月'!C46 -> 0 | O31: =SUM(C31:N31) -> 0 | P31: =AVERAGE(C31:N31) -> 0
B32: その他支出 | C32: ='1月'!C47 -> 0 | D32: ='2月'!C47 -> 0 | E32: ='3月'!C47 -> 0 | F32: ='4月'!C47 -> 0 | G32: ='5月'!C47 -> 0 | H32: ='6月'!C47 -> 0 | I32: ='7月'!C47 -> 0 | J32: ='8月'!C47 -> 0 | K32: ='9月'!C47 -> 0 | L32: ='10月'!C47 -> 0 | M32: ='11月'!C47 -> 0 | N32: ='12月'!C47 -> 0 | O32: =SUM(C32:N32) -> 0 | P32: =AVERAGE(C32:N32) -> 0
B33: 小計 | C33: ='1月'!C48 -> 0 | D33: ='2月'!C48 -> 0 | E33: ='3月'!C48 -> 0 | F33: ='4月'!C48 -> 0 | G33: ='5月'!C48 -> 0 | H33: ='6月'!C48 -> 0 | I33: ='7月'!C48 -> 0 | J33: ='8月'!C48 -> 0 | K33: ='9月'!C48 -> 0 | L33: ='10月'!C48 -> 0 | M33: ='11月'!C48 -> 0 | N33: ='12月'!C48 -> 0 | O33: =SUM(C33:N33) -> 0 | P33: =AVERAGE(C33:N33) -> 0
B35: 年間サマリー
B36: 収入合計 | C36: ='1月'!C5 -> 0 | D36: ='2月'!C5 -> 0 | E36: ='3月'!C5 -> 0 | F36: ='4月'!C5 -> 0 | G36: ='5月'!C5 -> 0 | H36: ='6月'!C5 -> 0 | I36: ='7月'!C5 -> 0 | J36: ='8月'!C5 -> 0 | K36: ='9月'!C5 -> 0 | L36: ='10月'!C5 -> 0 | M36: ='11月'!C5 -> 0 | N36: ='12月'!C5 -> 0 | O36: =SUM(C36:N36) -> 0 | P36: =AVERAGE(C36:N36) -> 0
B37: 支出合計 | C37: ='1月'!C6 -> 0 | D37: ='2月'!C6 -> 0 | E37: ='3月'!C6 -> 0 | F37: ='4月'!C6 -> 0 | G37: ='5月'!C6 -> 0 | H37: ='6月'!C6 -> 0 | I37: ='7月'!C6 -> 0 | J37: ='8月'!C6 -> 0 | K37: ='9月'!C6 -> 0 | L37: ='10月'!C6 -> 0 | M37: ='11月'!C6 -> 0 | N37: ='12月'!C6 -> 0 | O37: =SUM(C37:N37) -> 0 | P37: =AVERAGE(C37:N37) -> 0
B38: 収支(収入−支出) | C38: ='1月'!C7 -> 0 | D38: ='2月'!C7 -> 0 | E38: ='3月'!C7 -> 0 | F38: ='4月'!C7 -> 0 | G38: ='5月'!C7 -> 0 | H38: ='6月'!C7 -> 0 | I38: ='7月'!C7 -> 0 | J38: ='8月'!C7 -> 0 | K38: ='9月'!C7 -> 0 | L38: ='10月'!C7 -> 0 | M38: ='11月'!C7 -> 0 | N38: ='12月'!C7 -> 0 | O38: =SUM(C38:N38) -> 0 | P38: =AVERAGE(C38:N38) -> 0
B39: 累計収支 | C39: =SUM($C38:C38) -> 0 | D39: =SUM($C38:D38) -> 0 | E39: =SUM($C38:E38) -> 0 | F39: =SUM($C38:F38) -> 0 | G39: =SUM($C38:G38) -> 0 | H39: =SUM($C38:H38) -> 0 | I39: =SUM($C38:I38) -> 0 | J39: =SUM($C38:J38) -> 0 | ... N39: =SUM($C38:N38) -> 0

Sheet 1月
B1: 1月 JAN | C1: ____年 家計簿(収入・支出)
B2: 入力方法:薄い黄色のセル(金額・メモ)に入力してください。小計・合計は自動計算されます。 例)食費 58,320
B4: 月間サマリー | C4: 金額
B5: 収入合計 | C5: =C22 -> 0
B6: 支出合計 | C6: =C35+C48 -> 0
B7: 収支(収入−支出) | C7: =C5-C6 -> 0
B8: 貯蓄率 | C8: =IF(C5=0,"-",C7/C5) -> -
B10: 今月のふり返り:
B16: 収入
B17: 項目 | C17: 金額 | D17: メモ
B18: 給与(手取り)
B19: 賞与
B20: 副業収入
B21: その他収入
B22: 小計 | C22: =SUM(C18:C21) -> 0
B24: 支出(固定費)
B25: 項目 | C25: 金額 | D25: メモ
B26: 住居費(家賃・ローン)
B27: 電気代
B28: ガス代
B29: 水道代
B30: 通信費(スマホ・ネット)
B31: 保険料
B32: サブスク
B33: 教育費
B34: 車両費(ローン・駐車場)
B35: 小計 | C35: =SUM(C26:C34) -> 0
B37: 支出(変動費)
B38: 項目 | C38: 金額 | D38: メモ
B39: 食費
B40: 日用品
B41: 交通費
B42: 医療費
B43: 衣服・美容
B44: 交際費
B45: 趣味・娯楽
B46: 特別費(冠婚葬祭など)
B47: その他支出
B48: 小計 | C48: =SUM(C39:C47) -> 0

Sheet 2月
B1: 2月 FEB | C1: ____年 家計簿(収入・支出)
B2: 入力方法:薄い黄色のセル(金額・メモ)に入力してください。小計・合計は自動計算されます。 例)食費 58,320
B4: 月間サマリー | C4: 金額
B5: 収入合計 | C5: =C22 -> 0
B6: 支出合計 | C6: =C35+C48 -> 0
B7: 収支(収入−支出) | C7: =C5-C6 -> 0
B8: 貯蓄率 | C8: =IF(C5=0,"-",C7/C5) -> -
B10: 今月のふり返り:
B16: 収入
B17: 項目 | C17: 金額 | D17: メモ
B18: 給与(手取り)
B19: 賞与
B20: 副業収入
B21: その他収入
B22: 小計 | C22: =SUM(C18:C21) -> 0
B24: 支出(固定費)
B25: 項目 | C25: 金額 | D25: メモ
B26: 住居費(家賃・ローン)
B27: 電気代
B28: ガス代
B29: 水道代
B30: 通信費(スマホ・ネット)
B31: 保険料
B32: サブスク
B33: 教育費
B34: 車両費(ローン・駐車場)
B35: 小計 | C35: =SUM(C26:C34) -> 0
B37: 支出(変動費)
B38: 項目 | C38: 金額 | D38: メモ
B39: 食費
B40: 日用品
B41: 交通費
B42: 医療費
B43: 衣服・美容
B44: 交際費
B45: 趣味・娯楽
B46: 特別費(冠婚葬祭など)
B47: その他支出
B48: 小計 | C48: =SUM(C39:C47) -> 0

Sheet 3月
B1: 3月 MAR | C1: ____年 家計簿(収入・支出)
B2: 入力方法:薄い黄色のセル(金額・メモ)に入力してください。小計・合計は自動計算されます。 例)食費 58,320
B4: 月間サマリー | C4: 金額
B5: 収入合計 | C5: =C22 -> 0
B6: 支出合計 | C6: =C35+C48 -> 0
B7: 収支(収入−支出) | C7: =C5-C6 -> 0
B8: 貯蓄率 | C8: =IF(C5=0,"-",C7/C5) -> -
B10: 今月のふり返り:
B16: 収入
B17: 項目 | C17: 金額 | D17: メモ
B18: 給与(手取り)
B19: 賞与
B20: 副業収入
B21: その他収入
B22: 小計 | C22: =SUM(C18:C21) -> 0
B24: 支出(固定費)
B25: 項目 | C25: 金額 | D25: メモ
B26: 住居費(家賃・ローン)
B27: 電気代
B28: ガス代
B29: 水道代
B30: 通信費(スマホ・ネット)
B31: 保険料
B32: サブスク
B33: 教育費
B34: 車両費(ローン・駐車場)
B35: 小計 | C35: =SUM(C26:C34) -> 0
B37: 支出(変動費)
B38: 項目 | C38: 金額 | D38: メモ
B39: 食費
B40: 日用品
B41: 交通費
B42: 医療費
B43: 衣服・美容
B44: 交際費
B45: 趣味・娯楽
B46: 特別費(冠婚葬祭など)
B47: その他支出
B48: 小計 | C48: =SUM(C39:C47) -> 0

Sheet 4月
B1: 4月 APR | C1: ____年 家計簿(収入・支出)
B2: 入力方法:薄い黄色のセル(金額・メモ)に入力してください。小計・合計は自動計算されます。 例)食費 58,320
B4: 月間サマリー | C4: 金額
B5: 収入合計 | C5: =C22 -> 0
B6: 支出合計 | C6: =C35+C48 -> 0
B7: 収支(収入−支出) | C7: =C5-C6 -> 0
B8: 貯蓄率 | C8: =IF(C5=0,"-",C7/C5) -> -
B10: 今月のふり返り:
B16: 収入
B17: 項目 | C17: 金額 | D17: メモ
B18: 給与(手取り)
B19: 賞与
B20: 副業収入
B21: その他収入
B22: 小計 | C22: =SUM(C18:C21) -> 0
B24: 支出(固定費)
B25: 項目 | C25: 金額 | D25: メモ
B26: 住居費(家賃・ローン)
B27: 電気代
B28: ガス代
B29: 水道代
B30: 通信費(スマホ・ネット)
B31: 保険料
B32: サブスク
B33: 教育費
B34: 車両費(ローン・駐車場)
B35: 小計 | C35: =SUM(C26:C34) -> 0
B37: 支出(変動費)
B38: 項目 | C38: 金額 | D38: メモ
B39: 食費
B40: 日用品
B41: 交通費
B42: 医療費
B43: 衣服・美容
B44: 交際費
B45: 趣味・娯楽
B46: 特別費(冠婚葬祭など)
B47: その他支出
B48: 小計 | C48: =SUM(C39:C47) -> 0

Sheet 5月
B1: 5月 MAY | C1: ____年 家計簿(収入・支出)
B2: 入力方法:薄い黄色のセル(金額・メモ)に入力してください。小計・合計は自動計算されます。 例)食費 58,320
B4: 月間サマリー | C4: 金額
B5: 収入合計 | C5: =C22 -> 0
B6: 支出合計 | C6: =C35+C48 -> 0
B7: 収支(収入−支出) | C7: =C5-C6 -> 0
B8: 貯蓄率 | C8: =IF(C5=0,"-",C7/C5) -> -
B10: 今月のふり返り:
B16: 収入
B17: 項目 | C17: 金額 | D17: メモ
B18: 給与(手取り)
B19: 賞与
B20: 副業収入
B21: その他収入
B22: 小計 | C22: =SUM(C18:C21) -> 0
B24: 支出(固定費)
B25: 項目 | C25: 金額 | D25: メモ
B26: 住居費(家賃・ローン)
B27: 電気代
B28: ガス代
B29: 水道代
B30: 通信費(スマホ・ネット)
B31: 保険料
B32: サブスク
B33: 教育費
B34: 車両費(ローン・駐車場)
B35: 小計 | C35: =SUM(C26:C34) -> 0
B37: 支出(変動費)
B38: 項目 | C38: 金額 | D38: メモ
B39: 食費
B40: 日用品
B41: 交通費
B42: 医療費
B43: 衣服・美容
B44: 交際費
B45: 趣味・娯楽
B46: 特別費(冠婚葬祭など)
B47: その他支出
B48: 小計 | C48: =SUM(C39:C47) -> 0

Sheet 6月
B1: 6月 JUN | C1: ____年 家計簿(収入・支出)
B2: 入力方法:薄い黄色のセル(金額・メモ)に入力してください。小計・合計は自動計算されます。 例)食費 58,320
B4: 月間サマリー | C4: 金額
B5: 収入合計 | C5: =C22 -> 0
B6: 支出合計 | C6: =C35+C48 -> 0
B7: 収支(収入−支出) | C7: =C5-C6 -> 0
B8: 貯蓄率 | C8: =IF(C5=0,"-",C7/C5) -> -
B10: 今月のふり返り:
B16: 収入
B17: 項目 | C17: 金額 | D17: メモ
B18: 給与(手取り)
B19: 賞与
B20: 副業収入
B21: その他収入
B22: 小計 | C22: =SUM(C18:C21) -> 0
B24: 支出(固定費)
B25: 項目 | C25: 金額 | D25: メモ
B26: 住居費(家賃・ローン)
B27: 電気代
B28: ガス代
B29: 水道代
B30: 通信費(スマホ・ネット)
B31: 保険料
B32: サブスク
B33: 教育費
B34: 車両費(ローン・駐車場)
B35: 小計 | C35: =SUM(C26:C34) -> 0
B37: 支出(変動費)
B38: 項目 | C38: 金額 | D38: メモ
B39: 食費
B40: 日用品
B41: 交通費
B42: 医療費
B43: 衣服・美容
B44: 交際費
B45: 趣味・娯楽
B46: 特別費(冠婚葬祭など)
B47: その他支出
B48: 小計 | C48: =SUM(C39:C47) -> 0

Sheet 7月
B1: 7月 JUL | C1: ____年 家計簿(収入・支出)
B2: 入力方法:薄い黄色のセル(金額・メモ)に入力してください。小計・合計は自動計算されます。 例)食費 58,320
B4: 月間サマリー | C4: 金額
B5: 収入合計 | C5: =C22 -> 0
B6: 支出合計 | C6: =C35+C48 -> 0
B7: 収支(収入−支出) | C7: =C5-C6 -> 0
B8: 貯蓄率 | C8: =IF(C5=0,"-",C7/C5) -> -
B10: 今月のふり返り:
B16: 収入
B17: 項目 | C17: 金額 | D17: メモ
B18: 給与(手取り)
B19: 賞与
B20: 副業収入
B21: その他収入
B22: 小計 | C22: =SUM(C18:C21) -> 0
B24: 支出(固定費)
B25: 項目 | C25: 金額 | D25: メモ
B26: 住居費(家賃・ローン)
B27: 電気代
B28: ガス代
B29: 水道代
B30: 通信費(スマホ・ネット)
B31: 保険料
B32: サブスク
B33: 教育費
B34: 車両費(ローン・駐車場)
B35: 小計 | C35: =SUM(C26:C34) -> 0
B37: 支出(変動費)
B38: 項目 | C38: 金額 | D38: メモ
B39: 食費
B40: 日用品
B41: 交通費
B42: 医療費
B43: 衣服・美容
B44: 交際費
B45: 趣味・娯楽
B46: 特別費(冠婚葬祭など)
B47: その他支出
B48: 小計 | C48: =SUM(C39:C47) -> 0

Sheet 8月
B1: 8月 AUG | C1: ____年 家計簿(収入・支出)
B2: 入力方法:薄い黄色のセル(金額・メモ)に入力してください。小計・合計は自動計算されます。 例)食費 58,320
B4: 月間サマリー | C4: 金額
B5: 収入合計 | C5: =C22 -> 0
B6: 支出合計 | C6: =C35+C48 -> 0
B7: 収支(収入−支出) | C7: =C5-C6 -> 0
B8: 貯蓄率 | C8: =IF(C5=0,"-",C7/C5) -> -
B10: 今月のふり返り:
B16: 収入
B17: 項目 | C17: 金額 | D17: メモ
B18: 給与(手取り)
B19: 賞与
B20: 副業収入
B21: その他収入
B22: 小計 | C22: =SUM(C18:C21) -> 0
B24: 支出(固定費)
B25: 項目 | C25: 金額 | D25: メモ
B26: 住居費(家賃・ローン)
B27: 電気代
B28: ガス代
B29: 水道代
B30: 通信費(スマホ・ネット)
B31: 保険料
B32: サブスク
B33: 教育費
B34: 車両費(ローン・駐車場)
B35: 小計 | C35: =SUM(C26:C34) -> 0
B37: 支出(変動費)
B38: 項目 | C38: 金額 | D38: メモ
B39: 食費
B40: 日用品
B41: 交通費
B42: 医療費
B43: 衣服・美容
B44: 交際費
B45: 趣味・娯楽
B46: 特別費(冠婚葬祭など)
B47: その他支出
B48: 小計 | C48: =SUM(C39:C47) -> 0

Sheet 9月
B1: 9月 SEP | C1: ____年 家計簿(収入・支出)
B2: 入力方法:薄い黄色のセル(金額・メモ)に入力してください。小計・合計は自動計算されます。 例)食費 58,320
B4: 月間サマリー | C4: 金額
B5: 収入合計 | C5: =C22 -> 0
B6: 支出合計 | C6: =C35+C48 -> 0
B7: 収支(収入−支出) | C7: =C5-C6 -> 0
B8: 貯蓄率 | C8: =IF(C5=0,"-",C7/C5) -> -
B10: 今月のふり返り:
B16: 収入
B17: 項目 | C17: 金額 | D17: メモ
B18: 給与(手取り)
B19: 賞与
B20: 副業収入
B21: その他収入
B22: 小計 | C22: =SUM(C18:C21) -> 0
B24: 支出(固定費)
B25: 項目 | C25: 金額 | D25: メモ
B26: 住居費(家賃・ローン)
B27: 電気代
B28: ガス代
B29: 水道代
B30: 通信費(スマホ・ネット)
B31: 保険料
B32: サブスク
B33: 教育費
B34: 車両費(ローン・駐車場)
B35: 小計 | C35: =SUM(C26:C34) -> 0
B37: 支出(変動費)
B38: 項目 | C38: 金額 | D38: メモ
B39: 食費
B40: 日用品
B41: 交通費
B42: 医療費
B43: 衣服・美容
B44: 交際費
B45: 趣味・娯楽
B46: 特別費(冠婚葬祭など)
B47: その他支出
B48: 小計 | C48: =SUM(C39:C47) -> 0

Sheet 10月
B1: 10月 OCT | C1: ____年 家計簿(収入・支出)
B2: 入力方法:薄い黄色のセル(金額・メモ)に入力してください。小計・合計は自動計算されます。 例)食費 58,320
B4: 月間サマリー | C4: 金額
B5: 収入合計 | C5: =C22 -> 0
B6: 支出合計 | C6: =C35+C48 -> 0
B7: 収支(収入−支出) | C7: =C5-C6 -> 0
B8: 貯蓄率 | C8: =IF(C5=0,"-",C7/C5) -> -
B10: 今月のふり返り:
B16: 収入
B17: 項目 | C17: 金額 | D17: メモ
B18: 給与(手取り)
B19: 賞与
B20: 副業収入
B21: その他収入
B22: 小計 | C22: =SUM(C18:C21) -> 0
B24: 支出(固定費)
B25: 項目 | C25: 金額 | D25: メモ
B26: 住居費(家賃・ローン)
B27: 電気代
B28: ガス代
B29: 水道代
B30: 通信費(スマホ・ネット)
B31: 保険料
B32: サブスク
B33: 教育費
B34: 車両費(ローン・駐車場)
B35: 小計 | C35: =SUM(C26:C34) -> 0
B37: 支出(変動費)
B38: 項目 | C38: 金額 | D38: メモ
B39: 食費
B40: 日用品
B41: 交通費
B42: 医療費
B43: 衣服・美容
B44: 交際費
B45: 趣味・娯楽
B46: 特別費(冠婚葬祭など)
B47: その他支出
B48: 小計 | C48: =SUM(C39:C47) -> 0

Sheet 11月
B1: 11月 NOV | C1: ____年 家計簿(収入・支出)
B2: 入力方法:薄い黄色のセル(金額・メモ)に入力してください。小計・合計は自動計算されます。 例)食費 58,320
B4: 月間サマリー | C4: 金額
B5: 収入合計 | C5: =C22 -> 0
B6: 支出合計 | C6: =C35+C48 -> 0
B7: 収支(収入−支出) | C7: =C5-C6 -> 0
B8: 貯蓄率 | C8: =IF(C5=0,"-",C7/C5) -> -
B10: 今月のふり返り:
B16: 収入
B17: 項目 | C17: 金額 | D17: メモ
B18: 給与(手取り)
B19: 賞与
B20: 副業収入
B21: その他収入
B22: 小計 | C22: =SUM(C18:C21) -> 0
B24: 支出(固定費)
B25: 項目 | C25: 金額 | D25: メモ
B26: 住居費(家賃・ローン)
B27: 電気代
B28: ガス代
B29: 水道代
B30: 通信費(スマホ・ネット)
B31: 保険料
B32: サブスク
B33: 教育費
B34: 車両費(ローン・駐車場)
B35: 小計 | C35: =SUM(C26:C34) -> 0
B37: 支出(変動費)
B38: 項目 | C38: 金額 | D38: メモ
B39: 食費
B40: 日用品
B41: 交通費
B42: 医療費
B43: 衣服・美容
B44: 交際費
B45: 趣味・娯楽
B46: 特別費(冠婚葬祭など)
B47: その他支出
B48: 小計 | C48: =SUM(C39:C47) -> 0

Sheet 12月
B1: 12月 DEC | C1: ____年 家計簿(収入・支出)
B2: 入力方法:薄い黄色のセル(金額・メモ)に入力してください。小計・合計は自動計算されます。 例)食費 58,320
B4: 月間サマリー | C4: 金額
B5: 収入合計 | C5: =C22 -> 0
B6: 支出合計 | C6: =C35+C48 -> 0
B7: 収支(収入−支出) | C7: =C5-C6 -> 0
B8: 貯蓄率 | C8: =IF(C5=0,"-",C7/C5) -> -
B10: 今月のふり返り:
B16: 収入
B17: 項目 | C17: 金額 | D17: メモ
B18: 給与(手取り)
B19: 賞与
B20: 副業収入
B21: その他収入
B22: 小計 | C22: =SUM(C18:C21) -> 0
B24: 支出(固定費)
B25: 項目 | C25: 金額 | D25: メモ
B26: 住居費(家賃・ローン)
B27: 電気代
B28: ガス代
B29: 水道代
B30: 通信費(スマホ・ネット)
B31: 保険料
B32: サブスク
B33: 教育費
B34: 車両費(ローン・駐車場)
B35: 小計 | C35: =SUM(C26:C34) -> 0
B37: 支出(変動費)
B38: 項目 | C38: 金額 | D38: メモ
B39: 食費
B40: 日用品
B41: 交通費
B42: 医療費
B43: 衣服・美容
B44: 交際費
B45: 趣味・娯楽
B46: 特別費(冠婚葬祭など)
B47: その他支出
B48: 小計 | C48: =SUM(C39:C47) -> 0
